BEGIN:VCALENDAR
VERSION:2.0
PRODID:-//Kulturtreff Bothfeld - ECPv6.15.20//NONSGML v1.0//EN
CALSCALE:GREGORIAN
METHOD:PUBLISH
X-WR-CALNAME:Kulturtreff Bothfeld
X-ORIGINAL-URL:https://www.kulturtreffbothfeld.de
X-WR-CALDESC:Veranstaltungen für Kulturtreff Bothfeld
REFRESH-INTERVAL;VALUE=DURATION:PT1H
X-Robots-Tag:noindex
X-PUBLISHED-TTL:PT1H
BEGIN:VTIMEZONE
TZID:Europe/Berlin
BEGIN:DAYLIGHT
TZOFFSETFROM:+0100
TZOFFSETTO:+0200
TZNAME:CEST
DTSTART:20210328T010000
END:DAYLIGHT
BEGIN:STANDARD
TZOFFSETFROM:+0200
TZOFFSETTO:+0100
TZNAME:CET
DTSTART:20211031T010000
END:STANDARD
BEGIN:DAYLIGHT
TZOFFSETFROM:+0100
TZOFFSETTO:+0200
TZNAME:CEST
DTSTART:20220327T010000
END:DAYLIGHT
BEGIN:STANDARD
TZOFFSETFROM:+0200
TZOFFSETTO:+0100
TZNAME:CET
DTSTART:20221030T010000
END:STANDARD
BEGIN:DAYLIGHT
TZOFFSETFROM:+0100
TZOFFSETTO:+0200
TZNAME:CEST
DTSTART:20230326T010000
END:DAYLIGHT
BEGIN:STANDARD
TZOFFSETFROM:+0200
TZOFFSETTO:+0100
TZNAME:CET
DTSTART:20231029T010000
END:STANDARD
END:VTIMEZONE
BEGIN:VEVENT
DTSTART;TZID=Europe/Berlin:20220309T180000
DTEND;TZID=Europe/Berlin:20220309T200000
DTSTAMP:20260426T053244
CREATED:20211216T092753Z
LAST-MODIFIED:20211220T110632Z
UID:8324-1646848800-1646856000@www.kulturtreffbothfeld.de
SUMMARY:"Leute machen Kleider!"
DESCRIPTION:„Leute machen Kleider!“ – von Fast und Slow Fashion\nIm Rausch von Fast Fashion kann gerne mal untergehen\, dass unsere Kleidung immer noch von Menschen gemacht wird. Und dies zu einem hohen Preis für Arbeiter*innen und Umwelt. Der Weg aus der Krise? Slow Fashion!\nAn einem interaktiven Abend mit Impulsvortrag und Diskussion lernen wir nicht nur wie es um die Textilindustrie steht\, sondern vor Allem wie ein Leben nach Fast Fashion aussehen kann.\nEgal\, ob mit großem oder kleinem Geldbeutel\, geschickt mit Nadel und Faden oder vollkommen talentfrei: Slow Fashion kann jede*r!\nGemeinsam lernen wir Fast und Slow Fashion kennen und lassen dabei auch Raum für individuelle Fragen.\nReferentin: Zorah Birnbacher.\nOrt: Kulturtreff Vahrenheide\, Wartburgstr. 10\nEintritt: 3\,-€\nVorherige Anmeldung im Kulturtreff Bothfeld erforderlich!
URL:https://www.kulturtreffbothfeld.de/events/leute-machen-kleider/
CATEGORIES:Programm,StadteilKULTUR-NATURverbunden,Veranstaltungen
END:VEVENT
END:VCALENDAR