BEGIN:VCALENDAR
VERSION:2.0
PRODID:-//Kulturtreff Bothfeld - ECPv6.15.20//NONSGML v1.0//EN
CALSCALE:GREGORIAN
METHOD:PUBLISH
X-ORIGINAL-URL:https://www.kulturtreffbothfeld.de
X-WR-CALDESC:Veranstaltungen für Kulturtreff Bothfeld
REFRESH-INTERVAL;VALUE=DURATION:PT1H
X-Robots-Tag:noindex
X-PUBLISHED-TTL:PT1H
BEGIN:VTIMEZONE
TZID:Europe/Berlin
BEGIN:DAYLIGHT
TZOFFSETFROM:+0100
TZOFFSETTO:+0200
TZNAME:CEST
DTSTART:20210328T010000
END:DAYLIGHT
BEGIN:STANDARD
TZOFFSETFROM:+0200
TZOFFSETTO:+0100
TZNAME:CET
DTSTART:20211031T010000
END:STANDARD
BEGIN:DAYLIGHT
TZOFFSETFROM:+0100
TZOFFSETTO:+0200
TZNAME:CEST
DTSTART:20220327T010000
END:DAYLIGHT
BEGIN:STANDARD
TZOFFSETFROM:+0200
TZOFFSETTO:+0100
TZNAME:CET
DTSTART:20221030T010000
END:STANDARD
BEGIN:DAYLIGHT
TZOFFSETFROM:+0100
TZOFFSETTO:+0200
TZNAME:CEST
DTSTART:20230326T010000
END:DAYLIGHT
BEGIN:STANDARD
TZOFFSETFROM:+0200
TZOFFSETTO:+0100
TZNAME:CET
DTSTART:20231029T010000
END:STANDARD
END:VTIMEZONE
BEGIN:VEVENT
DTSTART;TZID=Europe/Berlin:20220326T190000
DTEND;TZID=Europe/Berlin:20220326T200000
DTSTAMP:20260426T054624
CREATED:20211220T104748Z
LAST-MODIFIED:20220308T094326Z
UID:8374-1648321200-1648324800@www.kulturtreffbothfeld.de
SUMMARY:Goldener Samstag: "Kammerphon" open air - ausgebucht!
DESCRIPTION:Goldener Samstag: „Kammerphon“ Open Air\nDas Duo Kammerphon begeistert mit Chansons und Schlagern der 20er bis 50er Jahre.\nSteffen Henning (Gesang) und Christian Zimmer (Klavier) zelebrieren seit zehn Jahren zu ihrer eigenen Freude – und natürlich sehr zur Freude ihres Publikums – die Musik der goldenen 20er mit Texten von romantischem bis bissigem Humor. Ziehen Sie sich wettergerecht an und lassen Sie sich mitreißen am Goldenen Samstag „Open Air“!\nEintritt: 5\,-€\nVorherige Anmeldung erforderlich.\nDie Veranstaltung ist leider ausgebucht!\n \n  \n  \n 
URL:https://www.kulturtreffbothfeld.de/events/goldener-samstag-kammerphon-open-air/
CATEGORIES:Einzelveranstaltungen,Programm,Veranstaltungen
END:VEVENT
END:VCALENDAR