BEGIN:VCALENDAR
VERSION:2.0
PRODID:-//Kulturtreff Bothfeld - ECPv6.15.20//NONSGML v1.0//EN
CALSCALE:GREGORIAN
METHOD:PUBLISH
X-WR-CALNAME:Kulturtreff Bothfeld
X-ORIGINAL-URL:https://www.kulturtreffbothfeld.de
X-WR-CALDESC:Veranstaltungen für Kulturtreff Bothfeld
REFRESH-INTERVAL;VALUE=DURATION:PT1H
X-Robots-Tag:noindex
X-PUBLISHED-TTL:PT1H
BEGIN:VTIMEZONE
TZID:Europe/Berlin
BEGIN:DAYLIGHT
TZOFFSETFROM:+0100
TZOFFSETTO:+0200
TZNAME:CEST
DTSTART:20210328T010000
END:DAYLIGHT
BEGIN:STANDARD
TZOFFSETFROM:+0200
TZOFFSETTO:+0100
TZNAME:CET
DTSTART:20211031T010000
END:STANDARD
BEGIN:DAYLIGHT
TZOFFSETFROM:+0100
TZOFFSETTO:+0200
TZNAME:CEST
DTSTART:20220327T010000
END:DAYLIGHT
BEGIN:STANDARD
TZOFFSETFROM:+0200
TZOFFSETTO:+0100
TZNAME:CET
DTSTART:20221030T010000
END:STANDARD
BEGIN:DAYLIGHT
TZOFFSETFROM:+0100
TZOFFSETTO:+0200
TZNAME:CEST
DTSTART:20230326T010000
END:DAYLIGHT
BEGIN:STANDARD
TZOFFSETFROM:+0200
TZOFFSETTO:+0100
TZNAME:CET
DTSTART:20231029T010000
END:STANDARD
END:VTIMEZONE
BEGIN:VEVENT
DTSTART;TZID=Europe/Berlin:20220430T110000
DTEND;TZID=Europe/Berlin:20220430T123000
DTSTAMP:20260426T023314
CREATED:20220329T064959Z
LAST-MODIFIED:20220329T064959Z
UID:8597-1651316400-1651321800@www.kulturtreffbothfeld.de
SUMMARY:Ich sehe was\, was du nicht siehst
DESCRIPTION:Ich sehe was\, was du nicht siehst – Naturerkundungs-Spaziergang\n\nAuf dem Weg durch die Eilenriede nutzen wir unsere Beobachtungsgabe für Schönes\, Kurioses\, Blühendes\, Duftendes\, Kleines und Großes. Wir gehen spazieren\, schnuppern\, schauen\, lauschen und fühlen. Damit wir uns ganz auf unsere Sinne konzentrieren können\, bleiben mobile Endgeräte ausgeschaltet und wir starten inspiriert und entspannt ins Wochenende.\nStartpunkt: Straßenecke Rubensstr./Podbi vor der Bäckerei Bucks (Nähe Haltestelle Pelikanstr.\, Linien 3\, 7 und 9)\nWir treffen uns um 10:45 und starten um 11:00 Uhr (bitte pünktlich!). Wir werden eine Strecke von etwa 1 – 2 km laufen und beenden unseren Gang Nähe Ausgangspunkt am Waldrand.\nAntje Eggers (Landschaftsgärtnerin und Diplom-Geographin)\nKosten: 6\,- Euro /ermäßigt 5\,-\nDie Veranstaltung findet bei jedem Wetter statt.\nVorherige Anmeldung und Bezahlung erforderlich.
URL:https://www.kulturtreffbothfeld.de/events/ich-sehe-was-was-du-nicht-siehst/
CATEGORIES:Einzelveranstaltungen,Programm,StadteilKULTUR-NATURverbunden,Veranstaltungen
END:VEVENT
END:VCALENDAR