BEGIN:VCALENDAR
VERSION:2.0
PRODID:-//Kulturtreff Bothfeld - ECPv6.15.20//NONSGML v1.0//EN
CALSCALE:GREGORIAN
METHOD:PUBLISH
X-ORIGINAL-URL:https://www.kulturtreffbothfeld.de
X-WR-CALDESC:Veranstaltungen für Kulturtreff Bothfeld
REFRESH-INTERVAL;VALUE=DURATION:PT1H
X-Robots-Tag:noindex
X-PUBLISHED-TTL:PT1H
BEGIN:VTIMEZONE
TZID:Europe/Berlin
BEGIN:DAYLIGHT
TZOFFSETFROM:+0100
TZOFFSETTO:+0200
TZNAME:CEST
DTSTART:20210328T010000
END:DAYLIGHT
BEGIN:STANDARD
TZOFFSETFROM:+0200
TZOFFSETTO:+0100
TZNAME:CET
DTSTART:20211031T010000
END:STANDARD
BEGIN:DAYLIGHT
TZOFFSETFROM:+0100
TZOFFSETTO:+0200
TZNAME:CEST
DTSTART:20220327T010000
END:DAYLIGHT
BEGIN:STANDARD
TZOFFSETFROM:+0200
TZOFFSETTO:+0100
TZNAME:CET
DTSTART:20221030T010000
END:STANDARD
BEGIN:DAYLIGHT
TZOFFSETFROM:+0100
TZOFFSETTO:+0200
TZNAME:CEST
DTSTART:20230326T010000
END:DAYLIGHT
BEGIN:STANDARD
TZOFFSETFROM:+0200
TZOFFSETTO:+0100
TZNAME:CET
DTSTART:20231029T010000
END:STANDARD
END:VTIMEZONE
BEGIN:VEVENT
DTSTART;TZID=Europe/Berlin:20220503T150000
DTEND;TZID=Europe/Berlin:20220503T170000
DTSTAMP:20260426T023626
CREATED:20220329T072919Z
LAST-MODIFIED:20220329T072919Z
UID:8626-1651590000-1651597200@www.kulturtreffbothfeld.de
SUMMARY:Erzählcafé für Senior*innen
DESCRIPTION:Der Kulturtreff lädt zum Erzählcafé ein. In gemütlicher Atmosphäre wollen wir zuhören und erzählen\, Erinnerungen\, Erlebnisse\, Gedanken und Erfahrungen teilen und kennenlernen. Herzlich willkommen! \nGesprächsthema am 03.05.: “Meine Schulzeit” \nVorherige Anmeldung im Kulturtreff erforderlich! \nRenate Klute
URL:https://www.kulturtreffbothfeld.de/events/erzaehlcafe-fuer-seniorinnen-3/
CATEGORIES:Einzelveranstaltungen,Kaffeezeit für SeniorInnen,Programm,Veranstaltungen
END:VEVENT
END:VCALENDAR