BEGIN:VCALENDAR
VERSION:2.0
PRODID:-//Kulturtreff Bothfeld - ECPv6.15.20//NONSGML v1.0//EN
CALSCALE:GREGORIAN
METHOD:PUBLISH
X-WR-CALNAME:Kulturtreff Bothfeld
X-ORIGINAL-URL:https://www.kulturtreffbothfeld.de
X-WR-CALDESC:Veranstaltungen für Kulturtreff Bothfeld
REFRESH-INTERVAL;VALUE=DURATION:PT1H
X-Robots-Tag:noindex
X-PUBLISHED-TTL:PT1H
BEGIN:VTIMEZONE
TZID:Europe/Berlin
BEGIN:DAYLIGHT
TZOFFSETFROM:+0100
TZOFFSETTO:+0200
TZNAME:CEST
DTSTART:20210328T010000
END:DAYLIGHT
BEGIN:STANDARD
TZOFFSETFROM:+0200
TZOFFSETTO:+0100
TZNAME:CET
DTSTART:20211031T010000
END:STANDARD
BEGIN:DAYLIGHT
TZOFFSETFROM:+0100
TZOFFSETTO:+0200
TZNAME:CEST
DTSTART:20220327T010000
END:DAYLIGHT
BEGIN:STANDARD
TZOFFSETFROM:+0200
TZOFFSETTO:+0100
TZNAME:CET
DTSTART:20221030T010000
END:STANDARD
BEGIN:DAYLIGHT
TZOFFSETFROM:+0100
TZOFFSETTO:+0200
TZNAME:CEST
DTSTART:20230326T010000
END:DAYLIGHT
BEGIN:STANDARD
TZOFFSETFROM:+0200
TZOFFSETTO:+0100
TZNAME:CET
DTSTART:20231029T010000
END:STANDARD
END:VTIMEZONE
BEGIN:VEVENT
DTSTART;TZID=Europe/Berlin:20220512T123000
DTEND;TZID=Europe/Berlin:20220512T130000
DTSTAMP:20260426T023309
CREATED:20220316T111008Z
LAST-MODIFIED:20220512T082557Z
UID:8533-1652358600-1652360400@www.kulturtreffbothfeld.de
SUMMARY:MittagsMusik: David Lübke
DESCRIPTION:David Lübke (Singer/Songwriter)\nDavid Lübke trägt sein Herz auf der Zunge. In seinen Liedern singt der 26-Jährige zu sanft gezupfter Gitarre von Aufbruch und Ankunft\, Hoffnung und Zweifel und von den großen Träumen des Menschseins. Im Konzert präsentiert er auch sein Geschick am Banjo und gibt charmant Einblick in seine “Liedermacher-Walz”\, einer musikalischen Wanderschaft quer durch Deutschland und Österreich in Zeiten der Pandemie. Um vorherige Anmeldung wird gebeten!
URL:https://www.kulturtreffbothfeld.de/events/mittagsmusik-david-luebke/
CATEGORIES:Einzelveranstaltungen,MittagsMusik,Programm,Veranstaltungen
END:VEVENT
END:VCALENDAR