BEGIN:VCALENDAR
VERSION:2.0
PRODID:-//Kulturtreff Bothfeld - ECPv6.15.20//NONSGML v1.0//EN
CALSCALE:GREGORIAN
METHOD:PUBLISH
X-ORIGINAL-URL:https://www.kulturtreffbothfeld.de
X-WR-CALDESC:Veranstaltungen für Kulturtreff Bothfeld
REFRESH-INTERVAL;VALUE=DURATION:PT1H
X-Robots-Tag:noindex
X-PUBLISHED-TTL:PT1H
BEGIN:VTIMEZONE
TZID:Europe/Berlin
BEGIN:DAYLIGHT
TZOFFSETFROM:+0100
TZOFFSETTO:+0200
TZNAME:CEST
DTSTART:20210328T010000
END:DAYLIGHT
BEGIN:STANDARD
TZOFFSETFROM:+0200
TZOFFSETTO:+0100
TZNAME:CET
DTSTART:20211031T010000
END:STANDARD
BEGIN:DAYLIGHT
TZOFFSETFROM:+0100
TZOFFSETTO:+0200
TZNAME:CEST
DTSTART:20220327T010000
END:DAYLIGHT
BEGIN:STANDARD
TZOFFSETFROM:+0200
TZOFFSETTO:+0100
TZNAME:CET
DTSTART:20221030T010000
END:STANDARD
BEGIN:DAYLIGHT
TZOFFSETFROM:+0100
TZOFFSETTO:+0200
TZNAME:CEST
DTSTART:20230326T010000
END:DAYLIGHT
BEGIN:STANDARD
TZOFFSETFROM:+0200
TZOFFSETTO:+0100
TZNAME:CET
DTSTART:20231029T010000
END:STANDARD
END:VTIMEZONE
BEGIN:VEVENT
DTSTART;TZID=Europe/Berlin:20220518T150000
DTEND;TZID=Europe/Berlin:20220518T163000
DTSTAMP:20260426T023545
CREATED:20220329T065144Z
LAST-MODIFIED:20220329T065144Z
UID:8600-1652886000-1652891400@www.kulturtreffbothfeld.de
SUMMARY:Das Leben der Honigbiene
DESCRIPTION:Die Hobby-Imker Ilse und Peter Spitzenberg zeigen und erklären uns in ihrem privaten Garten viel Wissenswertes zur Biologie der Honigbiene. Es gibt einen Schaukasten\, in dem man das Bienenvolk und die Königin beobachten kann\, sowie Bienenstöcke mit ihrem Honigraum. Auch über den Unterschied zwischen Bienen und Wespen werden wir etwas erfahren. Und natürlich bleibt daneben noch Zeit für Ihre eigenen Fragen und zum Austauschen.\n\nTreffpunkt: Im Klingenkampe 5A\nTeilnahmebeitrag: 3\,- €\nVorherige Anmeldung und Bezahlung erforderlich.
URL:https://www.kulturtreffbothfeld.de/events/das-leben-der-honigbiene-2/
CATEGORIES:Einzelveranstaltungen,Programm,StadteilKULTUR-NATURverbunden,Veranstaltungen
END:VEVENT
END:VCALENDAR