BEGIN:VCALENDAR
VERSION:2.0
PRODID:-//Kulturtreff Bothfeld - ECPv6.15.20//NONSGML v1.0//EN
CALSCALE:GREGORIAN
METHOD:PUBLISH
X-WR-CALNAME:Kulturtreff Bothfeld
X-ORIGINAL-URL:https://www.kulturtreffbothfeld.de
X-WR-CALDESC:Veranstaltungen für Kulturtreff Bothfeld
REFRESH-INTERVAL;VALUE=DURATION:PT1H
X-Robots-Tag:noindex
X-PUBLISHED-TTL:PT1H
BEGIN:VTIMEZONE
TZID:Europe/Berlin
BEGIN:DAYLIGHT
TZOFFSETFROM:+0100
TZOFFSETTO:+0200
TZNAME:CEST
DTSTART:20210328T010000
END:DAYLIGHT
BEGIN:STANDARD
TZOFFSETFROM:+0200
TZOFFSETTO:+0100
TZNAME:CET
DTSTART:20211031T010000
END:STANDARD
BEGIN:DAYLIGHT
TZOFFSETFROM:+0100
TZOFFSETTO:+0200
TZNAME:CEST
DTSTART:20220327T010000
END:DAYLIGHT
BEGIN:STANDARD
TZOFFSETFROM:+0200
TZOFFSETTO:+0100
TZNAME:CET
DTSTART:20221030T010000
END:STANDARD
BEGIN:DAYLIGHT
TZOFFSETFROM:+0100
TZOFFSETTO:+0200
TZNAME:CEST
DTSTART:20230326T010000
END:DAYLIGHT
BEGIN:STANDARD
TZOFFSETFROM:+0200
TZOFFSETTO:+0100
TZNAME:CET
DTSTART:20231029T010000
END:STANDARD
END:VTIMEZONE
BEGIN:VEVENT
DTSTART;TZID=Europe/Berlin:20220531T150000
DTEND;TZID=Europe/Berlin:20220531T163000
DTSTAMP:20260426T023219
CREATED:20211216T111127Z
LAST-MODIFIED:20220210T092256Z
UID:8343-1654009200-1654014600@www.kulturtreffbothfeld.de
SUMMARY:Besuch des Zeitzentrums Zivilcourage
DESCRIPTION:Das Zeitzentrum Zivilcourage wurde im März 2021 als neuer Lernort für Demokratie eröffnet. Es vermittelt die Geschichte der hannoverschen Stadtgesellschaft im Nationalsozialismus: von Verfolgung\, aber auch von Widerstand\, Zuschauer- und Täterschaft. Unter den Leitfragen „Mitmachen oder Widerstehen“ und „Bleiben oder gehen?“ werden die Besucher*innen dazu eingeladen\, diese Themen auf eine sehr persönliche Weise zu erkunden. So werden zum Beispiel 13 ausgewählte Lebensgeschichten in „Biografie-Kabinetten“ vertiefend dargestellt und Fragen aufgeworfen wie: Welche Orte waren für diese Menschen wichtig? Was ist dort passiert\, wo wir heute leben? Was verbindet die Geschichten der Menschen damals mit unserem Leben? Wie prägt die Vergangenheit die Stadt Hannover bis heute?\nEin Ort für Fragen an Vergangenheit\, Gegenwart und Zukunft von Menschen in Hannover. \nTeilnahmebeitrag: 3\,-€\nTreffpunkt: vor Ort\, Theodor-Lessing-Platz 1a\nVorherige Anmeldung im Kulturtreff erforderlich.
URL:https://www.kulturtreffbothfeld.de/events/besuch-des-zeitzentrums-zivilcourage/
CATEGORIES:Einzelveranstaltungen,Programm,Veranstaltungen
END:VEVENT
BEGIN:VEVENT
DTSTART;TZID=Europe/Berlin:20220531T150000
DTEND;TZID=Europe/Berlin:20220531T163000
DTSTAMP:20260426T023219
CREATED:20220329T072426Z
LAST-MODIFIED:20220329T072426Z
UID:8620-1654009200-1654014600@www.kulturtreffbothfeld.de
SUMMARY:Besuch des Zeitzentrums Zivilcourage
DESCRIPTION:Ein Ort für Fragen an Vergangenheit\, Gegenwart und Zukunft von Menschen in Hannover. Das Zeitzentrum Zivilcourage wurde im März 2021 als neuer Lernort für Demokratie eröffnet. Es vermittelt die Geschichte der hannoverschen Stadtgesellschaft im Nationalsozialismus: von Verfolgung\, aber auch von Widerstand\, Zuschauer- und Täterschaft. Unter den Leitfragen „Mitmachen oder Widerstehen“ und „Bleiben oder gehen?“ werden die Besucher*innen dazu eingeladen\, diese Themen auf eine sehr persönliche Weise zu erkunden. So werden zum Beispiel 13 ausgewählte Lebensgeschichten in „Biografie-Kabinetten“ vertiefend dargestellt und Fragen aufgeworfen wie: Welche Orte waren für diese Menschen wichtig? Was ist dort passiert\, wo wir heute leben? Was verbindet die Geschichten der Menschen damals mit unserem Leben? Wie prägt die Vergangenheit die Stadt Hannover bis heute?\nTeilnahmebeitrag: 3\,- €\nTreffpunkt: vor Ort\, Theodor-Lessing-Platz 1a\nVorherige Anmeldung und Bezahlung im Kulturtreff erforderlich.
URL:https://www.kulturtreffbothfeld.de/events/besuch-des-zeitzentrums-zivilcourage-2/
CATEGORIES:Einzelveranstaltungen,Programm,Veranstaltungen
END:VEVENT
END:VCALENDAR