BEGIN:VCALENDAR
VERSION:2.0
PRODID:-//Kulturtreff Bothfeld - ECPv6.15.20//NONSGML v1.0//EN
CALSCALE:GREGORIAN
METHOD:PUBLISH
X-ORIGINAL-URL:https://www.kulturtreffbothfeld.de
X-WR-CALDESC:Veranstaltungen für Kulturtreff Bothfeld
REFRESH-INTERVAL;VALUE=DURATION:PT1H
X-Robots-Tag:noindex
X-PUBLISHED-TTL:PT1H
BEGIN:VTIMEZONE
TZID:Europe/Berlin
BEGIN:DAYLIGHT
TZOFFSETFROM:+0100
TZOFFSETTO:+0200
TZNAME:CEST
DTSTART:20210328T010000
END:DAYLIGHT
BEGIN:STANDARD
TZOFFSETFROM:+0200
TZOFFSETTO:+0100
TZNAME:CET
DTSTART:20211031T010000
END:STANDARD
BEGIN:DAYLIGHT
TZOFFSETFROM:+0100
TZOFFSETTO:+0200
TZNAME:CEST
DTSTART:20220327T010000
END:DAYLIGHT
BEGIN:STANDARD
TZOFFSETFROM:+0200
TZOFFSETTO:+0100
TZNAME:CET
DTSTART:20221030T010000
END:STANDARD
BEGIN:DAYLIGHT
TZOFFSETFROM:+0100
TZOFFSETTO:+0200
TZNAME:CEST
DTSTART:20230326T010000
END:DAYLIGHT
BEGIN:STANDARD
TZOFFSETFROM:+0200
TZOFFSETTO:+0100
TZNAME:CET
DTSTART:20231029T010000
END:STANDARD
END:VTIMEZONE
BEGIN:VEVENT
DTSTART;TZID=Europe/Berlin:20220601T073000
DTEND;TZID=Europe/Berlin:20220601T201500
DTSTAMP:20260426T005940
CREATED:20220329T065705Z
LAST-MODIFIED:20220329T065705Z
UID:8603-1654068600-1654114500@www.kulturtreffbothfeld.de
SUMMARY:Radreise durchs Wendland
DESCRIPTION:„Ziegenkäse\, Schafmilchlikör und Storchenbier – kleine Radreise durchs Wendland“\nOb mit oder ohne kultureller Landpartie oder Wendlandpartie\, die geplante kleine Radreise ist in jedem Fall lohnenswert. Mit dem Zug geht  es von Hannover nach Schnega und dort mit eigenen Rädern zum Ziegenhof im Rundlingsdorf Bausen. Anschließend ins Königreich Diahren mit dem Dorfding und dem Schafmilchbauer. Zum Abschluss dann weiter nach Kussebode zur Wendlandbrauerei. An allen drei Orten werden wir  Menschen treffen\, die mit ihrem Engagement\, ihren Ideen und ihren Produkten die Welt ein bisschen besser und geschmackvoller machen. Davon werden wir hören und kosten können. Für die Teilnahme brauchen Sie ein funktionstüchtiges Rad und Kondition für 4 Stunden Zugfahrt\, mindestens 40 Kilometer Radtour und für diverse Gespräche und Genüsse.\nTeilnahmebeitrag: 35\,00 € (Zugfahrt\, inkl. Fahrradkarten)\nWeitere Kosten für Führungen waren bei Redaktionsschluss noch nicht beziffert. Verpflegen dürfen Sie sich unterwegs selbst.\nTreffpunkt: 7:20 Uhr am Servicepoint Hauptbahnhof | Zugabfahrt um 7:40 Uhr | Rückkunft Hannover zirka 20:15 Uhr\nVorherige Anmeldung und Bezahlung erforderlich.\nAlle Angaben ohne Gewähr\, Änderungen vorbehalten.
URL:https://www.kulturtreffbothfeld.de/events/radreise-durchs-wendland/
CATEGORIES:Einzelveranstaltungen,Programm,StadteilKULTUR-NATURverbunden,Veranstaltungen
END:VEVENT
END:VCALENDAR