BEGIN:VCALENDAR
VERSION:2.0
PRODID:-//Kulturtreff Bothfeld - ECPv6.15.20//NONSGML v1.0//EN
CALSCALE:GREGORIAN
METHOD:PUBLISH
X-WR-CALNAME:Kulturtreff Bothfeld
X-ORIGINAL-URL:https://www.kulturtreffbothfeld.de
X-WR-CALDESC:Veranstaltungen für Kulturtreff Bothfeld
REFRESH-INTERVAL;VALUE=DURATION:PT1H
X-Robots-Tag:noindex
X-PUBLISHED-TTL:PT1H
BEGIN:VTIMEZONE
TZID:Europe/Berlin
BEGIN:DAYLIGHT
TZOFFSETFROM:+0100
TZOFFSETTO:+0200
TZNAME:CEST
DTSTART:20210328T010000
END:DAYLIGHT
BEGIN:STANDARD
TZOFFSETFROM:+0200
TZOFFSETTO:+0100
TZNAME:CET
DTSTART:20211031T010000
END:STANDARD
BEGIN:DAYLIGHT
TZOFFSETFROM:+0100
TZOFFSETTO:+0200
TZNAME:CEST
DTSTART:20220327T010000
END:DAYLIGHT
BEGIN:STANDARD
TZOFFSETFROM:+0200
TZOFFSETTO:+0100
TZNAME:CET
DTSTART:20221030T010000
END:STANDARD
BEGIN:DAYLIGHT
TZOFFSETFROM:+0100
TZOFFSETTO:+0200
TZNAME:CEST
DTSTART:20230326T010000
END:DAYLIGHT
BEGIN:STANDARD
TZOFFSETFROM:+0200
TZOFFSETTO:+0100
TZNAME:CET
DTSTART:20231029T010000
END:STANDARD
END:VTIMEZONE
BEGIN:VEVENT
DTSTART;TZID=Europe/Berlin:20220609T123000
DTEND;TZID=Europe/Berlin:20220609T130000
DTSTAMP:20260426T005732
CREATED:20220316T111256Z
LAST-MODIFIED:20220509T082135Z
UID:8536-1654777800-1654779600@www.kulturtreffbothfeld.de
SUMMARY:MittagsMusik: Barbara Walach (Mezzosopran) und Christian Zimmer (Klavier)
DESCRIPTION:Barbara Walach (Mezzosopran) und Christian Zimmer (Klavier)\nBei dieser Mittagsmusik erleben Sie gemeinsam mit dem Pianisten Christian Zimmer die junge\, aufstrebende Opernsängerin Barbara Walach (Mezzosopran). Gebürtig in Polen lebt sie seit einem Jahr in Hannover und wird im Sommer am Staatstheater Braunschweig debütieren.\nFür Sie präsentieren die beiden ein sommerliches und mitreißendes Programm mit Werken der spanischen Komponisten Manuel de Falla\, Fernando Obradors und Carlos Guastavino.\nUm eine vorherige Anmeldung wird gebeten.\n 
URL:https://www.kulturtreffbothfeld.de/events/mittagsmusik-barbara-walach-mezzosopran-und-christian-zimmer-klavier/
CATEGORIES:Einzelveranstaltungen,MittagsMusik,Programm,Veranstaltungen
END:VEVENT
BEGIN:VEVENT
DTSTART;TZID=Europe/Berlin:20220609T173000
DTEND;TZID=Europe/Berlin:20220609T200000
DTSTAMP:20260426T005732
CREATED:20220329T065915Z
LAST-MODIFIED:20220329T065915Z
UID:8605-1654795800-1654804800@www.kulturtreffbothfeld.de
SUMMARY:Urban Sketch
DESCRIPTION:Urban Sketch: Hannover neu entdeckt mit Stift und Skizzenbuch!\nErkunden Sie die Stadtteile Hannovers und probieren sich dabei als Urban Sketcher*in. Sie zeichnen einen Ort so\, wie Sie ihn erleben. Im Vordergrund stehen dabei der Spaß am Ausprobieren und der Austausch untereinander. Unter der Anleitung von Sybille Heller (Urban Sketcherin und Grafikerin aus Hannover) entdecken Sie vielleicht ein neues Hobby oder vertiefen Ihre Zeichenkenntnisse. Nebenbei erfahren Sie Interessantes über ausgewählte Örtlichkeiten im Stadtteil.\nBei Bedarf kann Zeichenmaterial ausgeliehen werden\, bitte informieren Sie uns!\nTreffpunkt: Bothfelder Platz\, (neben der Haltestelle „Bothfelder Kirchweg“)\nTeilnahmegebühr: 12\,- € (für Schüler*innen/Student*innen ab 16 J. 9\,60 €)\nVorherige Anmeldung und Bezahlung im Kulturtreff erforderlich!
URL:https://www.kulturtreffbothfeld.de/events/urban-sketch/
CATEGORIES:Einzelveranstaltungen,Programm,StadteilKULTUR-NATURverbunden,Veranstaltungen
END:VEVENT
END:VCALENDAR