BEGIN:VCALENDAR
VERSION:2.0
PRODID:-//Kulturtreff Bothfeld - ECPv6.15.20//NONSGML v1.0//EN
CALSCALE:GREGORIAN
METHOD:PUBLISH
X-WR-CALNAME:Kulturtreff Bothfeld
X-ORIGINAL-URL:https://www.kulturtreffbothfeld.de
X-WR-CALDESC:Veranstaltungen für Kulturtreff Bothfeld
REFRESH-INTERVAL;VALUE=DURATION:PT1H
X-Robots-Tag:noindex
X-PUBLISHED-TTL:PT1H
BEGIN:VTIMEZONE
TZID:Europe/Berlin
BEGIN:DAYLIGHT
TZOFFSETFROM:+0100
TZOFFSETTO:+0200
TZNAME:CEST
DTSTART:20210328T010000
END:DAYLIGHT
BEGIN:STANDARD
TZOFFSETFROM:+0200
TZOFFSETTO:+0100
TZNAME:CET
DTSTART:20211031T010000
END:STANDARD
BEGIN:DAYLIGHT
TZOFFSETFROM:+0100
TZOFFSETTO:+0200
TZNAME:CEST
DTSTART:20220327T010000
END:DAYLIGHT
BEGIN:STANDARD
TZOFFSETFROM:+0200
TZOFFSETTO:+0100
TZNAME:CET
DTSTART:20221030T010000
END:STANDARD
BEGIN:DAYLIGHT
TZOFFSETFROM:+0100
TZOFFSETTO:+0200
TZNAME:CEST
DTSTART:20230326T010000
END:DAYLIGHT
BEGIN:STANDARD
TZOFFSETFROM:+0200
TZOFFSETTO:+0100
TZNAME:CET
DTSTART:20231029T010000
END:STANDARD
END:VTIMEZONE
BEGIN:VEVENT
DTSTART;TZID=Europe/Berlin:20220616T094000
DTEND;TZID=Europe/Berlin:20220616T160000
DTSTAMP:20260426T005507
CREATED:20220329T072637Z
LAST-MODIFIED:20220329T072637Z
UID:8622-1655372400-1655395200@www.kulturtreffbothfeld.de
SUMMARY:FrauenOrteNiedersachsen: Herta Peters (Peine)
DESCRIPTION:FrauenORTENiedersachsen – Auf den Spuren bedeutender Frauen\nNiedersachsen hat viel zu bieten\, auch eine reiche Frauengeschichte. Die Initiative frauenORTENiedersachsen des Landesfrauenrates hat diesen Schatz in  besonderer Form aufbereitet.\nPeine: Hertha Peters\nSie war die bemerkenswerteste Frau im politischen Leben des Peiner Landes. Hertha Peters (1905-1987) setzte sich für eine stärkere Präsenz von Frauen in der Kommunalpolitik ein und bereitete ab 1964 als erste Landrätin in Niedersachsen sowie zeitweise als einzige amtierende Landrätin in der Bundesrepublik den Weg für Frauen in politische Führungspositionen vor. Der Bau des Kreiskrankenhauses\, des heutigen Klinikums Peine\, zählt zu ihren herausragenden politischen Leistungen.\nAuf einem ca. 2-stündigen Stadtrundgang unter dem Titel „Peiner Frauen – viel mehr als Kinder\, Küche\, Kirche“ erfahren wir mehr über das Werk Hertha Peters sowie anderer prägender Frauengestalten in Peine. Anschließend haben Sie die Möglichkeit\, auf eigene Faust die Innenstadt zu erkunden oder in einem Lokal Ihrer Wahl zum Essen einzukehren.\nTeilnahmekosten: 20\,- € (inkl. Zugfahrt und Führung)\nTreffpunkt: 9.40 Uhr\,  Servicepoint am Hauptbahnhof (Zugabfahrt 9.55 Uhr)\nVorherige Anmeldung und Bezahlung erforderlich.
URL:https://www.kulturtreffbothfeld.de/events/frauenorteniedersachsen-herta-peters-peine/
CATEGORIES:Einzelveranstaltungen,Programm,Veranstaltungen
END:VEVENT
END:VCALENDAR