BEGIN:VCALENDAR
VERSION:2.0
PRODID:-//Kulturtreff Bothfeld - ECPv6.15.20//NONSGML v1.0//EN
CALSCALE:GREGORIAN
METHOD:PUBLISH
X-WR-CALNAME:Kulturtreff Bothfeld
X-ORIGINAL-URL:https://www.kulturtreffbothfeld.de
X-WR-CALDESC:Veranstaltungen für Kulturtreff Bothfeld
REFRESH-INTERVAL;VALUE=DURATION:PT1H
X-Robots-Tag:noindex
X-PUBLISHED-TTL:PT1H
BEGIN:VTIMEZONE
TZID:Europe/Berlin
BEGIN:DAYLIGHT
TZOFFSETFROM:+0100
TZOFFSETTO:+0200
TZNAME:CEST
DTSTART:20210328T010000
END:DAYLIGHT
BEGIN:STANDARD
TZOFFSETFROM:+0200
TZOFFSETTO:+0100
TZNAME:CET
DTSTART:20211031T010000
END:STANDARD
BEGIN:DAYLIGHT
TZOFFSETFROM:+0100
TZOFFSETTO:+0200
TZNAME:CEST
DTSTART:20220327T010000
END:DAYLIGHT
BEGIN:STANDARD
TZOFFSETFROM:+0200
TZOFFSETTO:+0100
TZNAME:CET
DTSTART:20221030T010000
END:STANDARD
BEGIN:DAYLIGHT
TZOFFSETFROM:+0100
TZOFFSETTO:+0200
TZNAME:CEST
DTSTART:20230326T010000
END:DAYLIGHT
BEGIN:STANDARD
TZOFFSETFROM:+0200
TZOFFSETTO:+0100
TZNAME:CET
DTSTART:20231029T010000
END:STANDARD
END:VTIMEZONE
BEGIN:VEVENT
DTSTART;TZID=Europe/Berlin:20220624T150000
DTEND;TZID=Europe/Berlin:20220624T163000
DTSTAMP:20260426T005608
CREATED:20220329T070055Z
LAST-MODIFIED:20220329T070055Z
UID:8608-1656082800-1656088200@www.kulturtreffbothfeld.de
SUMMARY:Vermehrungsgarten Hannover
DESCRIPTION:Führung durch den Vermehrungsgarten Hannover\nDer Vermehrungsgarten wurde 2020 als Projekt zur UN-Dekade „Biologische Vielfalt“ ausgezeichnet. Mit viel ehrenamtlichem Engagement ist in den letzten Jahren ein sehenswerter Schau- und  Lerngarten aufgebaut worden\, der erste dieser Art in einer Großstadt. Während der Führung mit Kornelia Stock erfahren wir\, um welche Kulturen und Saaten sich dort gekümmert wird. Wie wird hier biologisch gegärtnert? Was können sich Haus-\, Klein- und Balkongärtner*innen abgucken und so dazu beitragen\, dass samenfeste Sorten weiter bestehen?\nAm Ende der Führung besteht die Möglichkeit\, besondere Pflanzen und Honig zu erwerben.\nOrt/Treffpunkt: Eingang Vermehrungsgarten\, Bauernwiese 42 (Anfahrt: Linie 3\, 7 und 17\, Haltestelle „Freizeitheim Ricklingen/Beekestraße“\, von dort 10-minütiger Fußweg)\nTeilnahmebeitrag: 4\,- €\nVorherige Anmeldung und Bezahlung erforderlich.\n(Foto: Jörg Lindemann)
URL:https://www.kulturtreffbothfeld.de/events/vermehrungsgarten-hannover/
CATEGORIES:Einzelveranstaltungen,Programm,StadteilKULTUR-NATURverbunden,Veranstaltungen
END:VEVENT
END:VCALENDAR