BEGIN:VCALENDAR
VERSION:2.0
PRODID:-//Kulturtreff Bothfeld - ECPv6.15.20//NONSGML v1.0//EN
CALSCALE:GREGORIAN
METHOD:PUBLISH
X-WR-CALNAME:Kulturtreff Bothfeld
X-ORIGINAL-URL:https://www.kulturtreffbothfeld.de
X-WR-CALDESC:Veranstaltungen für Kulturtreff Bothfeld
REFRESH-INTERVAL;VALUE=DURATION:PT1H
X-Robots-Tag:noindex
X-PUBLISHED-TTL:PT1H
BEGIN:VTIMEZONE
TZID:Europe/Berlin
BEGIN:DAYLIGHT
TZOFFSETFROM:+0100
TZOFFSETTO:+0200
TZNAME:CEST
DTSTART:20210328T010000
END:DAYLIGHT
BEGIN:STANDARD
TZOFFSETFROM:+0200
TZOFFSETTO:+0100
TZNAME:CET
DTSTART:20211031T010000
END:STANDARD
BEGIN:DAYLIGHT
TZOFFSETFROM:+0100
TZOFFSETTO:+0200
TZNAME:CEST
DTSTART:20220327T010000
END:DAYLIGHT
BEGIN:STANDARD
TZOFFSETFROM:+0200
TZOFFSETTO:+0100
TZNAME:CET
DTSTART:20221030T010000
END:STANDARD
BEGIN:DAYLIGHT
TZOFFSETFROM:+0100
TZOFFSETTO:+0200
TZNAME:CEST
DTSTART:20230326T010000
END:DAYLIGHT
BEGIN:STANDARD
TZOFFSETFROM:+0200
TZOFFSETTO:+0100
TZNAME:CET
DTSTART:20231029T010000
END:STANDARD
END:VTIMEZONE
BEGIN:VEVENT
DTSTART;TZID=Europe/Berlin:20220630T163000
DTEND;TZID=Europe/Berlin:20220630T180000
DTSTAMP:20260425T234710
CREATED:20220329T070404Z
LAST-MODIFIED:20220330T065015Z
UID:8611-1656606600-1656612000@www.kulturtreffbothfeld.de
SUMMARY:Führung Wohngebiet „Herzkamp"
DESCRIPTION:Im Quartier „Herzkamp“ entstehen bis 2024 insgesamt 250 Wohneinheiten als Reihenhäuser\, Miet- und Eigentumswohnungen sowie eine 4-gruppige Kindertagesstätte. Außergewöhnlich in dem Wohnquartier sind die klimawandelangepasste Bauweise und die besondere Planung der Außenräume. Im Rahmen der Deutschen Anpassungsstrategie zum Klimawandel (DAS) wurde die Quartiersentwicklung durch das Bundesumweltministerium (BMU) als Leuchtturmprojekt gefördert.\nIm Rahmen eines Quartier-Spaziergangs wird das Projekt näher vorgestellt und ein Einblick in die zukunftsorientierte Planung vermittelt.\nTreffpunkt ist der Parkplatz an der Bischof-von-Ketteler-Straße. Bitte ziehen Sie sich festes Schuhwerk an.\nFührung: Christian Tautz (Firma Gundlach)\nEine vorherige Anmeldung – ab 11.4 möglich! – und Bezahlung im Kulturtreff ist erforderlich.\nTeilnahmegebühr 3\,- € \n(Foto: Copyright Alexander Schlichter\, Büro Wunderding)
URL:https://www.kulturtreffbothfeld.de/events/fuehrung-wohngebiet-herzkamp/
CATEGORIES:Einzelveranstaltungen,Programm,StadteilKULTUR-NATURverbunden,Veranstaltungen
END:VEVENT
END:VCALENDAR