BEGIN:VCALENDAR
VERSION:2.0
PRODID:-//Kulturtreff Bothfeld - ECPv6.15.20//NONSGML v1.0//EN
CALSCALE:GREGORIAN
METHOD:PUBLISH
X-WR-CALNAME:Kulturtreff Bothfeld
X-ORIGINAL-URL:https://www.kulturtreffbothfeld.de
X-WR-CALDESC:Veranstaltungen für Kulturtreff Bothfeld
REFRESH-INTERVAL;VALUE=DURATION:PT1H
X-Robots-Tag:noindex
X-PUBLISHED-TTL:PT1H
BEGIN:VTIMEZONE
TZID:Europe/Berlin
BEGIN:DAYLIGHT
TZOFFSETFROM:+0100
TZOFFSETTO:+0200
TZNAME:CEST
DTSTART:20210328T010000
END:DAYLIGHT
BEGIN:STANDARD
TZOFFSETFROM:+0200
TZOFFSETTO:+0100
TZNAME:CET
DTSTART:20211031T010000
END:STANDARD
BEGIN:DAYLIGHT
TZOFFSETFROM:+0100
TZOFFSETTO:+0200
TZNAME:CEST
DTSTART:20220327T010000
END:DAYLIGHT
BEGIN:STANDARD
TZOFFSETFROM:+0200
TZOFFSETTO:+0100
TZNAME:CET
DTSTART:20221030T010000
END:STANDARD
BEGIN:DAYLIGHT
TZOFFSETFROM:+0100
TZOFFSETTO:+0200
TZNAME:CEST
DTSTART:20230326T010000
END:DAYLIGHT
BEGIN:STANDARD
TZOFFSETFROM:+0200
TZOFFSETTO:+0100
TZNAME:CET
DTSTART:20231029T010000
END:STANDARD
END:VTIMEZONE
BEGIN:VEVENT
DTSTART;TZID=Europe/Berlin:20220908T170000
DTEND;TZID=Europe/Berlin:20220908T181500
DTSTAMP:20260425T202632
CREATED:20220718T081233Z
LAST-MODIFIED:20220829T065900Z
UID:9120-1662656400-1662660900@www.kulturtreffbothfeld.de
SUMMARY:Blind Date KULTUR
DESCRIPTION:Achtung – bereits ausgebucht!\nEinfach mal hingehen – entdecken\, staunen\, genießen! \nBlind Date KULTUR ist wie eine Schachtel Pralinen\, man weiß nie\, was man bekommt… \nTreffpunkt: Bothfelder Platz/Ecke Klein-Buchholzer Kirchweg \nDie Teilnahme ist nur mit vorheriger Anmeldung im Kulturtreff-Büro möglich! \nEine Initiative der Stadtteilkultureinrichtungen in Hannover
URL:https://www.kulturtreffbothfeld.de/events/blind-date-kultur/
CATEGORIES:Einzelveranstaltungen,Programm,Veranstaltungen
END:VEVENT
END:VCALENDAR