BEGIN:VCALENDAR
VERSION:2.0
PRODID:-//Kulturtreff Bothfeld - ECPv6.15.20//NONSGML v1.0//EN
CALSCALE:GREGORIAN
METHOD:PUBLISH
X-ORIGINAL-URL:https://www.kulturtreffbothfeld.de
X-WR-CALDESC:Veranstaltungen für Kulturtreff Bothfeld
REFRESH-INTERVAL;VALUE=DURATION:PT1H
X-Robots-Tag:noindex
X-PUBLISHED-TTL:PT1H
BEGIN:VTIMEZONE
TZID:Europe/Berlin
BEGIN:DAYLIGHT
TZOFFSETFROM:+0100
TZOFFSETTO:+0200
TZNAME:CEST
DTSTART:20210328T010000
END:DAYLIGHT
BEGIN:STANDARD
TZOFFSETFROM:+0200
TZOFFSETTO:+0100
TZNAME:CET
DTSTART:20211031T010000
END:STANDARD
BEGIN:DAYLIGHT
TZOFFSETFROM:+0100
TZOFFSETTO:+0200
TZNAME:CEST
DTSTART:20220327T010000
END:DAYLIGHT
BEGIN:STANDARD
TZOFFSETFROM:+0200
TZOFFSETTO:+0100
TZNAME:CET
DTSTART:20221030T010000
END:STANDARD
BEGIN:DAYLIGHT
TZOFFSETFROM:+0100
TZOFFSETTO:+0200
TZNAME:CEST
DTSTART:20230326T010000
END:DAYLIGHT
BEGIN:STANDARD
TZOFFSETFROM:+0200
TZOFFSETTO:+0100
TZNAME:CET
DTSTART:20231029T010000
END:STANDARD
END:VTIMEZONE
BEGIN:VEVENT
DTSTART;TZID=Europe/Berlin:20220921T160000
DTEND;TZID=Europe/Berlin:20220921T183000
DTSTAMP:20260425T203202
CREATED:20220718T082631Z
LAST-MODIFIED:20220718T082631Z
UID:9122-1663776000-1663785000@www.kulturtreffbothfeld.de
SUMMARY:Essbare Wildpflanzen
DESCRIPTION:Essbare Wildpflanzen erkunden bei einem Spaziergang in Bothfeld \nNaturerlebnisse mit Anita Zechel \n \nSelbstversorgung mit essbaren Wildpflanzen – schon eine Handvoll Wildpflanzen täglich bereichert unseren Speiseplan. Sie wirken sich wohltuend auf unseren Körper aus. Wir bestimmen und erkennen die essbaren Wildpflanzen und Sie bekommen Tipps zur einfachen\, schnellen Verwendung dieser Pflanzen in der Küche. Wussten Sie\, dass uns 12 Wildpflanzen das ganze Jahr begleiten? \nTreffpunkt:  Kulturtreff Bothfeld \nTeilnahmebeitrag: 7\,50 €
URL:https://www.kulturtreffbothfeld.de/events/essbare-wildpflanzen/
CATEGORIES:Einzelveranstaltungen,Programm,StadteilKULTUR-NATURverbunden,Veranstaltungen
END:VEVENT
END:VCALENDAR