BEGIN:VCALENDAR
VERSION:2.0
PRODID:-//Kulturtreff Bothfeld - ECPv6.15.20//NONSGML v1.0//EN
CALSCALE:GREGORIAN
METHOD:PUBLISH
X-WR-CALNAME:Kulturtreff Bothfeld
X-ORIGINAL-URL:https://www.kulturtreffbothfeld.de
X-WR-CALDESC:Veranstaltungen für Kulturtreff Bothfeld
REFRESH-INTERVAL;VALUE=DURATION:PT1H
X-Robots-Tag:noindex
X-PUBLISHED-TTL:PT1H
BEGIN:VTIMEZONE
TZID:Europe/Berlin
BEGIN:DAYLIGHT
TZOFFSETFROM:+0100
TZOFFSETTO:+0200
TZNAME:CEST
DTSTART:20210328T010000
END:DAYLIGHT
BEGIN:STANDARD
TZOFFSETFROM:+0200
TZOFFSETTO:+0100
TZNAME:CET
DTSTART:20211031T010000
END:STANDARD
BEGIN:DAYLIGHT
TZOFFSETFROM:+0100
TZOFFSETTO:+0200
TZNAME:CEST
DTSTART:20220327T010000
END:DAYLIGHT
BEGIN:STANDARD
TZOFFSETFROM:+0200
TZOFFSETTO:+0100
TZNAME:CET
DTSTART:20221030T010000
END:STANDARD
BEGIN:DAYLIGHT
TZOFFSETFROM:+0100
TZOFFSETTO:+0200
TZNAME:CEST
DTSTART:20230326T010000
END:DAYLIGHT
BEGIN:STANDARD
TZOFFSETFROM:+0200
TZOFFSETTO:+0100
TZNAME:CET
DTSTART:20231029T010000
END:STANDARD
END:VTIMEZONE
BEGIN:VEVENT
DTSTART;TZID=Europe/Berlin:20221014T183000
DTEND;TZID=Europe/Berlin:20221014T200000
DTSTAMP:20260425T185629
CREATED:20220718T084233Z
LAST-MODIFIED:20220718T084400Z
UID:9126-1665772200-1665777600@www.kulturtreffbothfeld.de
SUMMARY:"Unterwegs mit der Schildkröte Eumaphrasia"
DESCRIPTION:Lesung mit musikalischer Begleitung und Ausstellung \nWas passiert\, wenn man eines Abends einer 180jährigen Schildkröte begegnet? Man lernt etwas über Langsamkeit und die Schönheit der Augenblicke…\nDie Schriftstellerin Gyde Callesen liest aus ihrem neu erschienenen Buch ‘Unterwegs mit der Schildkröte Eumaphrasia’\, begleitet von Monika Herrmann am Cello. Dinah Nelke stellt die Original-Illustrationen zum Buch aus.\nEine Veranstaltung für Erwachsene und Kinder\, die bereit sind\, für das Abenteuer langsam zu werden.\nMit: Gyde Callesen/Monika Herrmann/Dinah Nelke\nTeilnahmebeitrag:10\,-/erm. 8\,- €\nEine Veranstaltung im Rahmen des WortLaut-Festivals 2021. Alle Informationen und das ganze Programm unter www.wortlaut-hannover.de \nIn Kooperation mit der LHH – Bereich Stadtteilkultur/Kulturelle Erwachsenenbildung
URL:https://www.kulturtreffbothfeld.de/events/unterwegs-mit-der-schildkroete-eumaphrasia/
CATEGORIES:Einzelveranstaltungen,Programm,Veranstaltungen
END:VEVENT
END:VCALENDAR