BEGIN:VCALENDAR
VERSION:2.0
PRODID:-//Kulturtreff Bothfeld - ECPv6.15.20//NONSGML v1.0//EN
CALSCALE:GREGORIAN
METHOD:PUBLISH
X-WR-CALNAME:Kulturtreff Bothfeld
X-ORIGINAL-URL:https://www.kulturtreffbothfeld.de
X-WR-CALDESC:Veranstaltungen für Kulturtreff Bothfeld
REFRESH-INTERVAL;VALUE=DURATION:PT1H
X-Robots-Tag:noindex
X-PUBLISHED-TTL:PT1H
BEGIN:VTIMEZONE
TZID:Europe/Berlin
BEGIN:DAYLIGHT
TZOFFSETFROM:+0100
TZOFFSETTO:+0200
TZNAME:CEST
DTSTART:20210328T010000
END:DAYLIGHT
BEGIN:STANDARD
TZOFFSETFROM:+0200
TZOFFSETTO:+0100
TZNAME:CET
DTSTART:20211031T010000
END:STANDARD
BEGIN:DAYLIGHT
TZOFFSETFROM:+0100
TZOFFSETTO:+0200
TZNAME:CEST
DTSTART:20220327T010000
END:DAYLIGHT
BEGIN:STANDARD
TZOFFSETFROM:+0200
TZOFFSETTO:+0100
TZNAME:CET
DTSTART:20221030T010000
END:STANDARD
BEGIN:DAYLIGHT
TZOFFSETFROM:+0100
TZOFFSETTO:+0200
TZNAME:CEST
DTSTART:20230326T010000
END:DAYLIGHT
BEGIN:STANDARD
TZOFFSETFROM:+0200
TZOFFSETTO:+0100
TZNAME:CET
DTSTART:20231029T010000
END:STANDARD
END:VTIMEZONE
BEGIN:VEVENT
DTSTART;TZID=Europe/Berlin:20221118T190000
DTEND;TZID=Europe/Berlin:20221118T203000
DTSTAMP:20260425T172052
CREATED:20220714T075245Z
LAST-MODIFIED:20221116T111950Z
UID:9088-1668798000-1668803400@www.kulturtreffbothfeld.de
SUMMARY:KulturHäppchen - Menü 3
DESCRIPTION:KULTUR NORDOST – “KulturHäppchen”\nDie KNO-Menü-Karte bietet eine feine Auswahl von schmackhaften KulturHäppchen\, begleitet von kulinarischen Kleinigkeiten. Die ausgewählten KNO-Menüs können in den drei Stadtteilen Bothfeld\, Sahlkamp und Vahrenheide genossen werden. Der Hauptgang ist dabei selbstverständlich das kulturelle Highlight. Die drei beteiligten Stadtteilkultureinrichtungen sind bei jedem Menü mit einem anderen Part vertreten. \nFreitag 18. November 19:00 Uhr – Kulturtreff Bothfeld \nMenü 3: „Frida Kahlo – Die Farben des Lebens” im Kulturtreff Bothfeld \nDie Veranstaltung ist leider ausgebucht!\n\nIdee\, Gesang\, Klavier: Alla Doelle (Sopranistin\, Mitglied der Staatsoper Hannover)\nKNO dankt dem Stadtbezirksrat Bothfeld-Vahrenheide für die finanzielle Unterstützung der Veranstaltungsreihe.
URL:https://www.kulturtreffbothfeld.de/events/kulturhaeppchen-menue-3/
CATEGORIES:Einzelveranstaltungen,KNO-KulturHäppchen,Programm,Veranstaltungen
END:VEVENT
END:VCALENDAR