BEGIN:VCALENDAR
VERSION:2.0
PRODID:-//Kulturtreff Bothfeld - ECPv6.15.20//NONSGML v1.0//EN
CALSCALE:GREGORIAN
METHOD:PUBLISH
X-ORIGINAL-URL:https://www.kulturtreffbothfeld.de
X-WR-CALDESC:Veranstaltungen für Kulturtreff Bothfeld
REFRESH-INTERVAL;VALUE=DURATION:PT1H
X-Robots-Tag:noindex
X-PUBLISHED-TTL:PT1H
BEGIN:VTIMEZONE
TZID:Europe/Berlin
BEGIN:DAYLIGHT
TZOFFSETFROM:+0100
TZOFFSETTO:+0200
TZNAME:CEST
DTSTART:20210328T010000
END:DAYLIGHT
BEGIN:STANDARD
TZOFFSETFROM:+0200
TZOFFSETTO:+0100
TZNAME:CET
DTSTART:20211031T010000
END:STANDARD
BEGIN:DAYLIGHT
TZOFFSETFROM:+0100
TZOFFSETTO:+0200
TZNAME:CEST
DTSTART:20220327T010000
END:DAYLIGHT
BEGIN:STANDARD
TZOFFSETFROM:+0200
TZOFFSETTO:+0100
TZNAME:CET
DTSTART:20221030T010000
END:STANDARD
BEGIN:DAYLIGHT
TZOFFSETFROM:+0100
TZOFFSETTO:+0200
TZNAME:CEST
DTSTART:20230326T010000
END:DAYLIGHT
BEGIN:STANDARD
TZOFFSETFROM:+0200
TZOFFSETTO:+0100
TZNAME:CET
DTSTART:20231029T010000
END:STANDARD
END:VTIMEZONE
BEGIN:VEVENT
DTSTART;TZID=Europe/Berlin:20221127T150000
DTEND;TZID=Europe/Berlin:20221127T180000
DTSTAMP:20260425T172621
CREATED:20221013T081819Z
LAST-MODIFIED:20221013T081819Z
UID:9945-1669561200-1669572000@www.kulturtreffbothfeld.de
SUMMARY:Schreibwerkstatt: „Besondere Ereignisse“
DESCRIPTION:Über besondere Ereignisse kann wohl jeder Mensch berichten: Sei es die Hochzeit\, eine wichtige Abschlussprüfung oder auch ein dramatischer Moment\, den man nicht erwartet hat. Wir wollen versuchen\, über besondere Ereignisse zu schreiben und dabei verschiedene Gestaltungsmöglichkeiten und Perspektiven ausprobieren. Wie werden solche Geschichten interessant und spannend? Mitgebrachte Erlebnisse\, eigene oder fremde\, sind herzlich willkommen. \nIn Kooperation mit dem Autor:innenzentrum Hannover \nLeitung: Burkhard Wetekam (Autor) \nTeilnahmebeitrag: 10\,- €/ erm. 8\,- € \nVorherige Anmeldung im Kulturtreff erforderlich.
URL:https://www.kulturtreffbothfeld.de/events/schreibwerkstatt-besondere-ereignisse/
CATEGORIES:Einzelveranstaltungen,Programm,Veranstaltungen
END:VEVENT
END:VCALENDAR