BEGIN:VCALENDAR
VERSION:2.0
PRODID:-//Kulturtreff Bothfeld - ECPv6.15.20//NONSGML v1.0//EN
CALSCALE:GREGORIAN
METHOD:PUBLISH
X-WR-CALNAME:Kulturtreff Bothfeld
X-ORIGINAL-URL:https://www.kulturtreffbothfeld.de
X-WR-CALDESC:Veranstaltungen für Kulturtreff Bothfeld
REFRESH-INTERVAL;VALUE=DURATION:PT1H
X-Robots-Tag:noindex
X-PUBLISHED-TTL:PT1H
BEGIN:VTIMEZONE
TZID:Europe/Berlin
BEGIN:DAYLIGHT
TZOFFSETFROM:+0100
TZOFFSETTO:+0200
TZNAME:CEST
DTSTART:20210328T010000
END:DAYLIGHT
BEGIN:STANDARD
TZOFFSETFROM:+0200
TZOFFSETTO:+0100
TZNAME:CET
DTSTART:20211031T010000
END:STANDARD
BEGIN:DAYLIGHT
TZOFFSETFROM:+0100
TZOFFSETTO:+0200
TZNAME:CEST
DTSTART:20220327T010000
END:DAYLIGHT
BEGIN:STANDARD
TZOFFSETFROM:+0200
TZOFFSETTO:+0100
TZNAME:CET
DTSTART:20221030T010000
END:STANDARD
BEGIN:DAYLIGHT
TZOFFSETFROM:+0100
TZOFFSETTO:+0200
TZNAME:CEST
DTSTART:20230326T010000
END:DAYLIGHT
BEGIN:STANDARD
TZOFFSETFROM:+0200
TZOFFSETTO:+0100
TZNAME:CET
DTSTART:20231029T010000
END:STANDARD
END:VTIMEZONE
BEGIN:VEVENT
DTSTART;TZID=Europe/Berlin:20221207T103000
DTEND;TZID=Europe/Berlin:20221207T113000
DTSTAMP:20260425T160247
CREATED:20221013T090845Z
LAST-MODIFIED:20221128T102611Z
UID:9963-1670409000-1670412600@www.kulturtreffbothfeld.de
SUMMARY:Kindertheater: "Tomte Tummetott"
DESCRIPTION:Figurentheater Pantaleon (München): Tomte Tummetott \nDie Vorstellung ist leider bereits ausverkauft! \nAb 4 Jahren \nDauer: ca. 45 Minuten \nEintritt: 5\,- € \nVorherige Anmeldung im Kulturtreff für Gruppen und Einzelpersonen erforderlich!\n In Zusammenarbeit mit der Landeshauptstadt Hannover\, Fachbereich Kultur\, Stadtteilkultur.
URL:https://www.kulturtreffbothfeld.de/events/kindertheater-tomte-tummetott/
CATEGORIES:Einzelveranstaltungen,Programm,Veranstaltungen
END:VEVENT
END:VCALENDAR