BEGIN:VCALENDAR
VERSION:2.0
PRODID:-//Kulturtreff Bothfeld - ECPv6.15.20//NONSGML v1.0//EN
CALSCALE:GREGORIAN
METHOD:PUBLISH
X-ORIGINAL-URL:https://www.kulturtreffbothfeld.de
X-WR-CALDESC:Veranstaltungen für Kulturtreff Bothfeld
REFRESH-INTERVAL;VALUE=DURATION:PT1H
X-Robots-Tag:noindex
X-PUBLISHED-TTL:PT1H
BEGIN:VTIMEZONE
TZID:Europe/Berlin
BEGIN:DAYLIGHT
TZOFFSETFROM:+0100
TZOFFSETTO:+0200
TZNAME:CEST
DTSTART:20220327T010000
END:DAYLIGHT
BEGIN:STANDARD
TZOFFSETFROM:+0200
TZOFFSETTO:+0100
TZNAME:CET
DTSTART:20221030T010000
END:STANDARD
BEGIN:DAYLIGHT
TZOFFSETFROM:+0100
TZOFFSETTO:+0200
TZNAME:CEST
DTSTART:20230326T010000
END:DAYLIGHT
BEGIN:STANDARD
TZOFFSETFROM:+0200
TZOFFSETTO:+0100
TZNAME:CET
DTSTART:20231029T010000
END:STANDARD
BEGIN:DAYLIGHT
TZOFFSETFROM:+0100
TZOFFSETTO:+0200
TZNAME:CEST
DTSTART:20240331T010000
END:DAYLIGHT
BEGIN:STANDARD
TZOFFSETFROM:+0200
TZOFFSETTO:+0100
TZNAME:CET
DTSTART:20241027T010000
END:STANDARD
END:VTIMEZONE
BEGIN:VEVENT
DTSTART;TZID=Europe/Berlin:20230825T173000
DTEND;TZID=Europe/Berlin:20230825T203000
DTSTAMP:20260425T051709
CREATED:20230731T101842Z
LAST-MODIFIED:20230803T065950Z
UID:10592-1692984600-1692995400@www.kulturtreffbothfeld.de
SUMMARY:Sommerfest
DESCRIPTION:Sommerfest im Kulturtreff: „Kleine Auszeit“\nDen Feierabend genießen\, das Wochenende begrüßen\, mit bekannten und neuen Menschen einen hoffentlich lauschigen Abend verbringen: auf unserer Terrasse\, im grünen Innenhof und in den Räumen des Kulturtreffs erwarten wir Sie zu einem fröhlichen Beisammensein. Bei kleinen Leckereien und Getränken können Sie dem Shantychor „De Leineschippers“ lauschen und die polnische Tanzgruppe „Polonia“ bewundern. Schauen Sie doch einfach vorbei!
URL:https://www.kulturtreffbothfeld.de/events/sommerfest/
CATEGORIES:Einzelveranstaltungen,Programm,Veranstaltungen
END:VEVENT
END:VCALENDAR