BEGIN:VCALENDAR
VERSION:2.0
PRODID:-//Kulturtreff Bothfeld - ECPv6.15.20//NONSGML v1.0//EN
CALSCALE:GREGORIAN
METHOD:PUBLISH
X-WR-CALNAME:Kulturtreff Bothfeld
X-ORIGINAL-URL:https://www.kulturtreffbothfeld.de
X-WR-CALDESC:Veranstaltungen für Kulturtreff Bothfeld
REFRESH-INTERVAL;VALUE=DURATION:PT1H
X-Robots-Tag:noindex
X-PUBLISHED-TTL:PT1H
BEGIN:VTIMEZONE
TZID:Europe/Berlin
BEGIN:DAYLIGHT
TZOFFSETFROM:+0100
TZOFFSETTO:+0200
TZNAME:CEST
DTSTART:20220327T010000
END:DAYLIGHT
BEGIN:STANDARD
TZOFFSETFROM:+0200
TZOFFSETTO:+0100
TZNAME:CET
DTSTART:20221030T010000
END:STANDARD
BEGIN:DAYLIGHT
TZOFFSETFROM:+0100
TZOFFSETTO:+0200
TZNAME:CEST
DTSTART:20230326T010000
END:DAYLIGHT
BEGIN:STANDARD
TZOFFSETFROM:+0200
TZOFFSETTO:+0100
TZNAME:CET
DTSTART:20231029T010000
END:STANDARD
BEGIN:DAYLIGHT
TZOFFSETFROM:+0100
TZOFFSETTO:+0200
TZNAME:CEST
DTSTART:20240331T010000
END:DAYLIGHT
BEGIN:STANDARD
TZOFFSETFROM:+0200
TZOFFSETTO:+0100
TZNAME:CET
DTSTART:20241027T010000
END:STANDARD
END:VTIMEZONE
BEGIN:VEVENT
DTSTART;TZID=Europe/Berlin:20230908T084500
DTEND;TZID=Europe/Berlin:20230908T180000
DTSTAMP:20260425T035117
CREATED:20230731T105553Z
LAST-MODIFIED:20230731T105553Z
UID:10604-1694162700-1694196000@www.kulturtreffbothfeld.de
SUMMARY:FrauenORTENiedersachsen – Fischerhude
DESCRIPTION:Cato Bontjes van Beek: „Ich will nur eins sein – und das ist Mensch“ \nCato *1920\, aufgewachsen in Fischerhude\, hinterlässt eine abgebrochene Biographie\, sie starb aber nicht als gebrochene Frau. 1940 zog sie nach Berlin und beteiligte sich an der Verbreitung von Flugblättern gegen das nationalsozialistische Regime. Der Ausbruch des 2.Wetkrieges und die Judenverfolgung hatten ihren Widerstand geweckt. 1942 wurde sie mit ihrem Vater von der Gestapo verhaftet und nach 11 Monaten Haft hingerichtet. \nAuf einem Spaziergang  in Fischerhude und im Archiv des Cato Bontjes van Beek Gymnasiums in Achim erfahren wir etwas über das Leben und die Gedanken dieser bewundernswerten jungen Frau. In Fischerhude haben Sie zudem Zeit zur freien Verfügung. \nMittagessen kann dazu gebucht werden. \nAnmeldung bis 28.8. erforderlich. \nTeilnahmebeitrag: 30 € (inkl. Busfahrt ab ZOB\, Führungen). \nEine Veranstaltung mehrerer Kulturtreffs.
URL:https://www.kulturtreffbothfeld.de/events/frauenorteniedersachsen-fischerhude/
CATEGORIES:Einzelveranstaltungen,Programm,Veranstaltungen
END:VEVENT
END:VCALENDAR