BEGIN:VCALENDAR
VERSION:2.0
PRODID:-//Kulturtreff Bothfeld - ECPv6.15.20//NONSGML v1.0//EN
CALSCALE:GREGORIAN
METHOD:PUBLISH
X-WR-CALNAME:Kulturtreff Bothfeld
X-ORIGINAL-URL:https://www.kulturtreffbothfeld.de
X-WR-CALDESC:Veranstaltungen für Kulturtreff Bothfeld
REFRESH-INTERVAL;VALUE=DURATION:PT1H
X-Robots-Tag:noindex
X-PUBLISHED-TTL:PT1H
BEGIN:VTIMEZONE
TZID:Europe/Berlin
BEGIN:DAYLIGHT
TZOFFSETFROM:+0100
TZOFFSETTO:+0200
TZNAME:CEST
DTSTART:20220327T010000
END:DAYLIGHT
BEGIN:STANDARD
TZOFFSETFROM:+0200
TZOFFSETTO:+0100
TZNAME:CET
DTSTART:20221030T010000
END:STANDARD
BEGIN:DAYLIGHT
TZOFFSETFROM:+0100
TZOFFSETTO:+0200
TZNAME:CEST
DTSTART:20230326T010000
END:DAYLIGHT
BEGIN:STANDARD
TZOFFSETFROM:+0200
TZOFFSETTO:+0100
TZNAME:CET
DTSTART:20231029T010000
END:STANDARD
BEGIN:DAYLIGHT
TZOFFSETFROM:+0100
TZOFFSETTO:+0200
TZNAME:CEST
DTSTART:20240331T010000
END:DAYLIGHT
BEGIN:STANDARD
TZOFFSETFROM:+0200
TZOFFSETTO:+0100
TZNAME:CET
DTSTART:20241027T010000
END:STANDARD
END:VTIMEZONE
BEGIN:VEVENT
DTSTART;TZID=Europe/Berlin:20230912T170000
DTEND;TZID=Europe/Berlin:20230912T180000
DTSTAMP:20260425T035225
CREATED:20230731T105656Z
LAST-MODIFIED:20230731T105656Z
UID:10606-1694538000-1694541600@www.kulturtreffbothfeld.de
SUMMARY:Blind Date Kultur
DESCRIPTION:Einfach mal hingehen – entdecken\, staunen\, genießen! \nBlind Date KULTUR ist wie eine Schachtel Pralinen\, man weiß nie\, was man bekommt… \nTreffpunkt: Stadtbahnhaltestelle Bothfeld (Linie 9) \nVorherige Anmeldung erbeten! \nEine Initiative der Stadtteilkultureinrichtungen in Hannover.
URL:https://www.kulturtreffbothfeld.de/events/blind-date-kultur-2/
CATEGORIES:Einzelveranstaltungen,Programm,Veranstaltungen
END:VEVENT
END:VCALENDAR