BEGIN:VCALENDAR
VERSION:2.0
PRODID:-//Kulturtreff Bothfeld - ECPv6.15.20//NONSGML v1.0//EN
CALSCALE:GREGORIAN
METHOD:PUBLISH
X-WR-CALNAME:Kulturtreff Bothfeld
X-ORIGINAL-URL:https://www.kulturtreffbothfeld.de
X-WR-CALDESC:Veranstaltungen für Kulturtreff Bothfeld
REFRESH-INTERVAL;VALUE=DURATION:PT1H
X-Robots-Tag:noindex
X-PUBLISHED-TTL:PT1H
BEGIN:VTIMEZONE
TZID:Europe/Berlin
BEGIN:DAYLIGHT
TZOFFSETFROM:+0100
TZOFFSETTO:+0200
TZNAME:CEST
DTSTART:20220327T010000
END:DAYLIGHT
BEGIN:STANDARD
TZOFFSETFROM:+0200
TZOFFSETTO:+0100
TZNAME:CET
DTSTART:20221030T010000
END:STANDARD
BEGIN:DAYLIGHT
TZOFFSETFROM:+0100
TZOFFSETTO:+0200
TZNAME:CEST
DTSTART:20230326T010000
END:DAYLIGHT
BEGIN:STANDARD
TZOFFSETFROM:+0200
TZOFFSETTO:+0100
TZNAME:CET
DTSTART:20231029T010000
END:STANDARD
BEGIN:DAYLIGHT
TZOFFSETFROM:+0100
TZOFFSETTO:+0200
TZNAME:CEST
DTSTART:20240331T010000
END:DAYLIGHT
BEGIN:STANDARD
TZOFFSETFROM:+0200
TZOFFSETTO:+0100
TZNAME:CET
DTSTART:20241027T010000
END:STANDARD
END:VTIMEZONE
BEGIN:VEVENT
DTSTART;TZID=Europe/Berlin:20231005T173000
DTEND;TZID=Europe/Berlin:20231005T190000
DTSTAMP:20260425T021832
CREATED:20230801T070743Z
LAST-MODIFIED:20230801T070743Z
UID:10623-1696527000-1696532400@www.kulturtreffbothfeld.de
SUMMARY:Themenabend Pflegegrad
DESCRIPTION:Im Pflegefall berechnen Pflegekassen den Pflegegrad regelmäßig zu niedrig. Dadurch verlieren pflegebedürftige Versicherte mehrere tausend Euro im Jahr für ihre Pflege. An diesem Abend erklärt Florian Specht\, wie der Pflegegrad überhaupt berechnet wird\, wie man sich auf die Begutachtung der Pflegebedürftigkeit vorbereitet und was man gegen einen zu geringen Pflegegrad tun kann.\nReferent: Rechtsanwalt Florian Specht\, Gründer von www.pflegewächter.de\nKostenlos. Um vorherige Anmeldung wird gebeten.
URL:https://www.kulturtreffbothfeld.de/events/themenabend-pflegegrad/
CATEGORIES:Einzelveranstaltungen,Programm,Veranstaltungen
END:VEVENT
END:VCALENDAR