BEGIN:VCALENDAR
VERSION:2.0
PRODID:-//Kulturtreff Bothfeld - ECPv6.15.20//NONSGML v1.0//EN
CALSCALE:GREGORIAN
METHOD:PUBLISH
X-ORIGINAL-URL:https://www.kulturtreffbothfeld.de
X-WR-CALDESC:Veranstaltungen für Kulturtreff Bothfeld
REFRESH-INTERVAL;VALUE=DURATION:PT1H
X-Robots-Tag:noindex
X-PUBLISHED-TTL:PT1H
BEGIN:VTIMEZONE
TZID:Europe/Berlin
BEGIN:DAYLIGHT
TZOFFSETFROM:+0100
TZOFFSETTO:+0200
TZNAME:CEST
DTSTART:20220327T010000
END:DAYLIGHT
BEGIN:STANDARD
TZOFFSETFROM:+0200
TZOFFSETTO:+0100
TZNAME:CET
DTSTART:20221030T010000
END:STANDARD
BEGIN:DAYLIGHT
TZOFFSETFROM:+0100
TZOFFSETTO:+0200
TZNAME:CEST
DTSTART:20230326T010000
END:DAYLIGHT
BEGIN:STANDARD
TZOFFSETFROM:+0200
TZOFFSETTO:+0100
TZNAME:CET
DTSTART:20231029T010000
END:STANDARD
BEGIN:DAYLIGHT
TZOFFSETFROM:+0100
TZOFFSETTO:+0200
TZNAME:CEST
DTSTART:20240331T010000
END:DAYLIGHT
BEGIN:STANDARD
TZOFFSETFROM:+0200
TZOFFSETTO:+0100
TZNAME:CET
DTSTART:20241027T010000
END:STANDARD
END:VTIMEZONE
BEGIN:VEVENT
DTSTART;TZID=Europe/Berlin:20231108T173000
DTEND;TZID=Europe/Berlin:20231108T183000
DTSTAMP:20260425T010233
CREATED:20230731T101634Z
LAST-MODIFIED:20231101T082409Z
UID:10587-1699464600-1699468200@www.kulturtreffbothfeld.de
SUMMARY:Führung durch Ausstellung
DESCRIPTION:Ausstellung “Eine festgehaltene Reise” – ein Städtepartnerschaftsprojekt zwischen Poznan und Hannover\n\nIn einem Winter voller Einschränkungen arbeiteten im März 2021 sechzehn Jugendliche aus den Partnerstädten Poznan und Hannover eine Woche lang an einem gemeinsamen Fotoprojekt. Sie erkundeten jeweils ihre eigenen Städte\, suchten urbane Fotomotive und tauschten sich in regelmäßigen digitalen Treffen aus. Als „stellvertretende“ Reisende – die auf den Bildern abgebildet wurden – posierten weiße Keramikfiguren\, die speziell für dieses Projekt von einer Künstlerin aus Poznan angefertigt wurden. Sehenswürdigkeiten\, Lieblingsorte\, oder  Details in Makroaufnahmen haben die Jugendlichen fotografisch festgehalten. Die so entstandenen Bilderpaare wurden anschließend zu einer Fotoschau zusammengetragen.\nEin Projekt des Freizeitheims Vahrenwald und der Kultureinrichtung Centrum Sztuki Dziecka in Poznan.\nAm Mittwoch\, 8.11. um 17.30 Uhr bieten wir eine Führung durch die Ausstellung mit Katarzyna Dec-Merkle\, die dieses Projekt begleitet hat. Bitte melden Sie sich hierfür bei uns an.
URL:https://www.kulturtreffbothfeld.de/events/fuehrung-durch-ausstellung/
CATEGORIES:Einzelveranstaltungen,Programm,Veranstaltungen
END:VEVENT
END:VCALENDAR