BEGIN:VCALENDAR
VERSION:2.0
PRODID:-//Kulturtreff Bothfeld - ECPv6.15.20//NONSGML v1.0//EN
CALSCALE:GREGORIAN
METHOD:PUBLISH
X-WR-CALNAME:Kulturtreff Bothfeld
X-ORIGINAL-URL:https://www.kulturtreffbothfeld.de
X-WR-CALDESC:Veranstaltungen für Kulturtreff Bothfeld
REFRESH-INTERVAL;VALUE=DURATION:PT1H
X-Robots-Tag:noindex
X-PUBLISHED-TTL:PT1H
BEGIN:VTIMEZONE
TZID:Europe/Berlin
BEGIN:DAYLIGHT
TZOFFSETFROM:+0100
TZOFFSETTO:+0200
TZNAME:CEST
DTSTART:20220327T010000
END:DAYLIGHT
BEGIN:STANDARD
TZOFFSETFROM:+0200
TZOFFSETTO:+0100
TZNAME:CET
DTSTART:20221030T010000
END:STANDARD
BEGIN:DAYLIGHT
TZOFFSETFROM:+0100
TZOFFSETTO:+0200
TZNAME:CEST
DTSTART:20230326T010000
END:DAYLIGHT
BEGIN:STANDARD
TZOFFSETFROM:+0200
TZOFFSETTO:+0100
TZNAME:CET
DTSTART:20231029T010000
END:STANDARD
BEGIN:DAYLIGHT
TZOFFSETFROM:+0100
TZOFFSETTO:+0200
TZNAME:CEST
DTSTART:20240331T010000
END:DAYLIGHT
BEGIN:STANDARD
TZOFFSETFROM:+0200
TZOFFSETTO:+0100
TZNAME:CET
DTSTART:20241027T010000
END:STANDARD
END:VTIMEZONE
BEGIN:VEVENT
DTSTART;TZID=Europe/Berlin:20231114T190000
DTEND;TZID=Europe/Berlin:20231114T210000
DTSTAMP:20260425T010006
CREATED:20230801T072107Z
LAST-MODIFIED:20230801T072107Z
UID:10637-1699988400-1699995600@www.kulturtreffbothfeld.de
SUMMARY:Das Altwarmbüchener Moor und die hannoverschen Sinti von 1938 bis heute
DESCRIPTION:Die Verbrechen des Nationalsozialismus an den Sinti und Roma spielen im Bewusstsein der meisten Deutschen bis heute kaum eine Rolle. Dabei haben sie auch vor unserer Haustür stattgefunden.  Im Jahr 1938 wurde im Altwarmbüchner Moor ein kommunales Sammellager eingerichtet. Dieses Lager wurde in der Nacht zum 1. März 1943 von Polizisten umstellt und geräumt. Die Familien wurden mit ihren Kindern auf Lastwagen getrieben und zum Bahnhof Fischerhof gebracht\, von wo sie mit dem Zug in das „Zigeunerfamilienlager“ im Vernichtungslager Auschwitz-Birkenau transportiert wurden. Am 3. März 1998\, zum 55. Jahrestag der Auschwitz-Deportation\, wurde an der Stelle des Sammellagers im Altwarmbüchener Moor ein durch den Niedersächsischen Verband Deutscher Sinti gestiftetes Mahnmal eingeweiht.\nNach einer Einführung in die Historie und das Leben der Sinti in Hannover vor 1933\, wozu auch ein kurzer Film gehört (Interview mit einem Mitarbeiter des Stadtarchivs und einer Bewohnerin des Lagers über die Zeit vor 1945)\, berichtet ein Nachfahre der Bewohner des Lagers nach 1945 über die Situation nach der Befreiung.\n\nEine Veranstaltung in Kooperation mit dem SPD-Ortsverband Bothfeld und dem Verein für Sinti und Roma in Niedersachsen e.V.\nEintritt frei. Um vorherige Anmeldung im Kulturtreff wird gebeten. \n 
URL:https://www.kulturtreffbothfeld.de/events/das-altwarmbuechener-moor-und-die-hannoverschen-sinti-von-1938-bis-heute/
CATEGORIES:Einzelveranstaltungen,Programm,Veranstaltungen
END:VEVENT
END:VCALENDAR