BEGIN:VCALENDAR
VERSION:2.0
PRODID:-//Kulturtreff Bothfeld - ECPv6.15.20//NONSGML v1.0//EN
CALSCALE:GREGORIAN
METHOD:PUBLISH
X-WR-CALNAME:Kulturtreff Bothfeld
X-ORIGINAL-URL:https://www.kulturtreffbothfeld.de
X-WR-CALDESC:Veranstaltungen für Kulturtreff Bothfeld
REFRESH-INTERVAL;VALUE=DURATION:PT1H
X-Robots-Tag:noindex
X-PUBLISHED-TTL:PT1H
BEGIN:VTIMEZONE
TZID:Europe/Berlin
BEGIN:DAYLIGHT
TZOFFSETFROM:+0100
TZOFFSETTO:+0200
TZNAME:CEST
DTSTART:20220327T010000
END:DAYLIGHT
BEGIN:STANDARD
TZOFFSETFROM:+0200
TZOFFSETTO:+0100
TZNAME:CET
DTSTART:20221030T010000
END:STANDARD
BEGIN:DAYLIGHT
TZOFFSETFROM:+0100
TZOFFSETTO:+0200
TZNAME:CEST
DTSTART:20230326T010000
END:DAYLIGHT
BEGIN:STANDARD
TZOFFSETFROM:+0200
TZOFFSETTO:+0100
TZNAME:CET
DTSTART:20231029T010000
END:STANDARD
BEGIN:DAYLIGHT
TZOFFSETFROM:+0100
TZOFFSETTO:+0200
TZNAME:CEST
DTSTART:20240331T010000
END:DAYLIGHT
BEGIN:STANDARD
TZOFFSETFROM:+0200
TZOFFSETTO:+0100
TZNAME:CET
DTSTART:20241027T010000
END:STANDARD
END:VTIMEZONE
BEGIN:VEVENT
DTSTART;TZID=Europe/Berlin:20231117T190000
DTEND;TZID=Europe/Berlin:20231117T203000
DTSTAMP:20260425T005050
CREATED:20230801T072224Z
LAST-MODIFIED:20230801T072224Z
UID:10639-1700247600-1700253000@www.kulturtreffbothfeld.de
SUMMARY:Stadtteilkultur Table Quiz
DESCRIPTION:Das Stadtteilkultur Table Quiz ist zurück! Live und digital. In verschiedenen Stadtteilkultureinrichtungen in der ganzen Stadt darf wieder geraten\, geschmunzelt und gewusst werden. Ob alleine\, zu zweit oder als kleines Team – melden Sie sich an und sind live oder online dabei. Das Table Quiz wird an einem Standort von der hannoverschen Kulturfigur Fräulein Rose moderiert. Daher dreht sich diesmal alles um die 50er bis 70er Jahre. Alle Standorte sind digital miteinander verbunden. Daher ist die Teilnahme auch online möglich und Sie können von zu Hause mit Freund*innen oder Familie mit rätseln.\nAnmeldungen dafür per E-Mail an redaktion.stadtteilkultur@hannover-stadt.de (Betreff:tablequiz). Sie bekommen dann einen Zugangslink für die zoom-Konferenz. \nWer live vor Ort in Bothfeld dabei sein will\, muss sich im Kulturtreff unter 0511-6476262 oder Kulturtreff.bothfeld@t-online.de anmelden. \nPlatzzahl begrenzt | Teilnahme kostenlos
URL:https://www.kulturtreffbothfeld.de/events/stadtteilkultur-table-quiz/
CATEGORIES:Einzelveranstaltungen,Programm,Veranstaltungen
END:VEVENT
END:VCALENDAR