BEGIN:VCALENDAR
VERSION:2.0
PRODID:-//Kulturtreff Bothfeld - ECPv6.15.20//NONSGML v1.0//EN
CALSCALE:GREGORIAN
METHOD:PUBLISH
X-WR-CALNAME:Kulturtreff Bothfeld
X-ORIGINAL-URL:https://www.kulturtreffbothfeld.de
X-WR-CALDESC:Veranstaltungen für Kulturtreff Bothfeld
REFRESH-INTERVAL;VALUE=DURATION:PT1H
X-Robots-Tag:noindex
X-PUBLISHED-TTL:PT1H
BEGIN:VTIMEZONE
TZID:Europe/Berlin
BEGIN:DAYLIGHT
TZOFFSETFROM:+0100
TZOFFSETTO:+0200
TZNAME:CEST
DTSTART:20220327T010000
END:DAYLIGHT
BEGIN:STANDARD
TZOFFSETFROM:+0200
TZOFFSETTO:+0100
TZNAME:CET
DTSTART:20221030T010000
END:STANDARD
BEGIN:DAYLIGHT
TZOFFSETFROM:+0100
TZOFFSETTO:+0200
TZNAME:CEST
DTSTART:20230326T010000
END:DAYLIGHT
BEGIN:STANDARD
TZOFFSETFROM:+0200
TZOFFSETTO:+0100
TZNAME:CET
DTSTART:20231029T010000
END:STANDARD
BEGIN:DAYLIGHT
TZOFFSETFROM:+0100
TZOFFSETTO:+0200
TZNAME:CEST
DTSTART:20240331T010000
END:DAYLIGHT
BEGIN:STANDARD
TZOFFSETFROM:+0200
TZOFFSETTO:+0100
TZNAME:CET
DTSTART:20241027T010000
END:STANDARD
END:VTIMEZONE
BEGIN:VEVENT
DTSTART;TZID=Europe/Berlin:20231121T173000
DTEND;TZID=Europe/Berlin:20231121T193000
DTSTAMP:20260425T005336
CREATED:20230801T072411Z
LAST-MODIFIED:20230801T072411Z
UID:10641-1700587800-1700595000@www.kulturtreffbothfeld.de
SUMMARY:Geschichte und Natur im Baltikum – ein Multivisionsvortrag
DESCRIPTION:Mit dem Begriff „das Baltikum“ ver­bindet sich auto­matisch ein weiter Blick in die Vergan­genheit Deutsch­lands. Und in der Tat ist die wechsel­volle Geschichte der drei Länder Lettland\, Litauen und Estland in vie­lerlei Hinsicht un­trennbar mit deut­scher Geschichte verbunden. Begin­nend mit den Er­oberungen deut­scher Ritterorden\, dem Einfluss der Kaufleute der Han­se und letztlich dem unsäglichen Bündnis zwischen Hitler und Stalin ist durch Deutsche über Jahrhunderte dort Einfluss genom­men worden.\nAuf dieser Reise\, die in Lettland beginnt und über Riga nach Estland bis zur russischen Gren­ze\, sowie im Osten nach Litauen und zu guter Letzt ent­lang der Memel zur kurischen Nehrung nach Klaipeda führt\, folgen wir der Geschichte.\nUwe Grund\nAnmeldung erwünscht\, Eintritt frei\, um eine angemessene Spende wird gebeten
URL:https://www.kulturtreffbothfeld.de/events/geschichte-und-natur-im-baltikum-ein-multivisionsvortrag/
CATEGORIES:Einzelveranstaltungen,Programm,Veranstaltungen
END:VEVENT
END:VCALENDAR