BEGIN:VCALENDAR
VERSION:2.0
PRODID:-//Kulturtreff Bothfeld - ECPv6.15.20//NONSGML v1.0//EN
CALSCALE:GREGORIAN
METHOD:PUBLISH
X-ORIGINAL-URL:https://www.kulturtreffbothfeld.de
X-WR-CALDESC:Veranstaltungen für Kulturtreff Bothfeld
REFRESH-INTERVAL;VALUE=DURATION:PT1H
X-Robots-Tag:noindex
X-PUBLISHED-TTL:PT1H
BEGIN:VTIMEZONE
TZID:Europe/Berlin
BEGIN:DAYLIGHT
TZOFFSETFROM:+0100
TZOFFSETTO:+0200
TZNAME:CEST
DTSTART:20220327T010000
END:DAYLIGHT
BEGIN:STANDARD
TZOFFSETFROM:+0200
TZOFFSETTO:+0100
TZNAME:CET
DTSTART:20221030T010000
END:STANDARD
BEGIN:DAYLIGHT
TZOFFSETFROM:+0100
TZOFFSETTO:+0200
TZNAME:CEST
DTSTART:20230326T010000
END:DAYLIGHT
BEGIN:STANDARD
TZOFFSETFROM:+0200
TZOFFSETTO:+0100
TZNAME:CET
DTSTART:20231029T010000
END:STANDARD
BEGIN:DAYLIGHT
TZOFFSETFROM:+0100
TZOFFSETTO:+0200
TZNAME:CEST
DTSTART:20240331T010000
END:DAYLIGHT
BEGIN:STANDARD
TZOFFSETFROM:+0200
TZOFFSETTO:+0100
TZNAME:CET
DTSTART:20241027T010000
END:STANDARD
END:VTIMEZONE
BEGIN:VEVENT
DTSTART;TZID=Europe/Berlin:20231129T170000
DTEND;TZID=Europe/Berlin:20231129T190000
DTSTAMP:20260424T232428
CREATED:20230801T073018Z
LAST-MODIFIED:20230801T073018Z
UID:10643-1701277200-1701284400@www.kulturtreffbothfeld.de
SUMMARY:Kreativ verpacken und verschenken mit Furoshiki
DESCRIPTION:In diesem Workshop stellt Yao Neumann die nachhaltige japanische Verpackungskunst mit Tüchern vor. Sie können mehrere Tücher selbst gestalten und lernen\, eigene Geschenke damit zu verpacken. So können Sie anderen zum Advent oder zu Weihnachten eine ganz besondere nachhaltige Freude machen. Aber auch zum Einpacken von Lebensmitteln eignen sich die schönen Stofftücher gut.\n\nYao Neumann\nTeilnahmebeitrag: 10\,-€ (inkl. Material).\nVorherige Anmeldung erforderlich.
URL:https://www.kulturtreffbothfeld.de/events/kreativ-verpacken-und-verschenken-mit-furoshiki/
CATEGORIES:Einzelveranstaltungen,Programm,StadteilKULTUR-NATURverbunden,Veranstaltungen
END:VEVENT
END:VCALENDAR