BEGIN:VCALENDAR
VERSION:2.0
PRODID:-//Kulturtreff Bothfeld - ECPv6.15.20//NONSGML v1.0//EN
CALSCALE:GREGORIAN
METHOD:PUBLISH
X-ORIGINAL-URL:https://www.kulturtreffbothfeld.de
X-WR-CALDESC:Veranstaltungen für Kulturtreff Bothfeld
REFRESH-INTERVAL;VALUE=DURATION:PT1H
X-Robots-Tag:noindex
X-PUBLISHED-TTL:PT1H
BEGIN:VTIMEZONE
TZID:Europe/Berlin
BEGIN:DAYLIGHT
TZOFFSETFROM:+0100
TZOFFSETTO:+0200
TZNAME:CEST
DTSTART:20220327T010000
END:DAYLIGHT
BEGIN:STANDARD
TZOFFSETFROM:+0200
TZOFFSETTO:+0100
TZNAME:CET
DTSTART:20221030T010000
END:STANDARD
BEGIN:DAYLIGHT
TZOFFSETFROM:+0100
TZOFFSETTO:+0200
TZNAME:CEST
DTSTART:20230326T010000
END:DAYLIGHT
BEGIN:STANDARD
TZOFFSETFROM:+0200
TZOFFSETTO:+0100
TZNAME:CET
DTSTART:20231029T010000
END:STANDARD
BEGIN:DAYLIGHT
TZOFFSETFROM:+0100
TZOFFSETTO:+0200
TZNAME:CEST
DTSTART:20240331T010000
END:DAYLIGHT
BEGIN:STANDARD
TZOFFSETFROM:+0200
TZOFFSETTO:+0100
TZNAME:CET
DTSTART:20241027T010000
END:STANDARD
END:VTIMEZONE
BEGIN:VEVENT
DTSTART;TZID=Europe/Berlin:20231213T103000
DTEND;TZID=Europe/Berlin:20231213T113000
DTSTAMP:20260424T232544
CREATED:20230801T084749Z
LAST-MODIFIED:20230801T084749Z
UID:10659-1702463400-1702467000@www.kulturtreffbothfeld.de
SUMMARY:Kindertheater: Vom kleinen Maulwurf...
DESCRIPTION:Theater Marotte: “Vom kleinen Maulwurf\, der wissen wollte\, wer ihm auf den Kopf gemacht hat” – nach dem Kinderbuch von Wolf Erlbruch\nAls der kleine Maulwurf eines Tages seinen Kopf aus der Erde streckte\, passierte es: Es war rund und braun und das Schlimmste war\, es landete direkt auf seinem Kopf! Wer war das? Die Ziege war es nicht\, der Hase war es nicht\, das Pferd war es nicht. Die Fliege war es auch nicht\, aber die weiß\, wer es war. Wie der kleine Maulwurf zu seinem Recht kommt\, erzählt die bekannte Geschichte mit Spannung\, Witz und Poesie. \nDauer: ca. 40 Min\, Alter: 3 – 6 Jahre \nEintritt: 5\,- €\nVorherige Anmeldung im Kulturtreff für Gruppen und Einzelpersonen erforderlich! \nIn Zusammenarbeit mit der Landeshauptstadt Hannover\, Fachbereich Kultur\, Stadtteilkultur.
URL:https://www.kulturtreffbothfeld.de/events/kindertheater-vom-kleinen-maulwurf/
CATEGORIES:Einzelveranstaltungen,Kinder,Programm,Veranstaltungen
END:VEVENT
END:VCALENDAR