BEGIN:VCALENDAR
VERSION:2.0
PRODID:-//Kulturtreff Bothfeld - ECPv6.15.20//NONSGML v1.0//EN
CALSCALE:GREGORIAN
METHOD:PUBLISH
X-WR-CALNAME:Kulturtreff Bothfeld
X-ORIGINAL-URL:https://www.kulturtreffbothfeld.de
X-WR-CALDESC:Veranstaltungen für Kulturtreff Bothfeld
REFRESH-INTERVAL;VALUE=DURATION:PT1H
X-Robots-Tag:noindex
X-PUBLISHED-TTL:PT1H
BEGIN:VTIMEZONE
TZID:Europe/Berlin
BEGIN:DAYLIGHT
TZOFFSETFROM:+0100
TZOFFSETTO:+0200
TZNAME:CEST
DTSTART:20230326T010000
END:DAYLIGHT
BEGIN:STANDARD
TZOFFSETFROM:+0200
TZOFFSETTO:+0100
TZNAME:CET
DTSTART:20231029T010000
END:STANDARD
BEGIN:DAYLIGHT
TZOFFSETFROM:+0100
TZOFFSETTO:+0200
TZNAME:CEST
DTSTART:20240331T010000
END:DAYLIGHT
BEGIN:STANDARD
TZOFFSETFROM:+0200
TZOFFSETTO:+0100
TZNAME:CET
DTSTART:20241027T010000
END:STANDARD
BEGIN:DAYLIGHT
TZOFFSETFROM:+0100
TZOFFSETTO:+0200
TZNAME:CEST
DTSTART:20250330T010000
END:DAYLIGHT
BEGIN:STANDARD
TZOFFSETFROM:+0200
TZOFFSETTO:+0100
TZNAME:CET
DTSTART:20251026T010000
END:STANDARD
END:VTIMEZONE
BEGIN:VEVENT
DTSTART;TZID=Europe/Berlin:20240214T140000
DTEND;TZID=Europe/Berlin:20240214T153000
DTSTAMP:20260424T215815
CREATED:20240103T230000Z
LAST-MODIFIED:20231212T103609Z
UID:10850-1707919200-1707924600@www.kulturtreffbothfeld.de
SUMMARY:Führung im Haus der Religionen
DESCRIPTION:Eine Entdeckungsreise durch neun Religionen und Weltanschauungen\nVon außen einheitlich\, von innen vielfältig: So präsentieren sich neun Religionen und Weltanschauungen in der multimedialen Dauerausstellung im Haus der Religionen. Alevitentum\, Bahaitum\, Buddhismus\, Christentum\, Ezidentum\, Hinduismus\, Humanismus\, Islam und Judentum haben sich dort ihre ganz eigenen Erlebniswelten geschaffen.\nLicht\, Farben\, Formen\, Symbole … in jedem Raum gibt es Neues\, Spannendes und manchmal auch Unerwartetes zu entdecken. Bei uns gilt: Alles darf angefasst und bewegt\, jeder Knopf gedrückt werden. Wir sind überzeugt\, dass Religion nicht in eine Vitrine gehört\, sondern erfahren und „begriffen“ werden muss. \nTeilnahmebeitrag: 7\,-€ / HAP: 3\,50€ \nVorherige Anmeldung und Bezahlung erforderlich. \nTreffpunkt: Eingang Haus der Religionen\, Böhmerstr. 8 (Südstadt)
URL:https://www.kulturtreffbothfeld.de/events/fuehrung-im-haus-der-religionen/
CATEGORIES:Einzelveranstaltungen,Programm,Veranstaltungen
END:VEVENT
END:VCALENDAR