BEGIN:VCALENDAR
VERSION:2.0
PRODID:-//Kulturtreff Bothfeld - ECPv6.15.20//NONSGML v1.0//EN
CALSCALE:GREGORIAN
METHOD:PUBLISH
X-ORIGINAL-URL:https://www.kulturtreffbothfeld.de
X-WR-CALDESC:Veranstaltungen für Kulturtreff Bothfeld
REFRESH-INTERVAL;VALUE=DURATION:PT1H
X-Robots-Tag:noindex
X-PUBLISHED-TTL:PT1H
BEGIN:VTIMEZONE
TZID:Europe/Berlin
BEGIN:DAYLIGHT
TZOFFSETFROM:+0100
TZOFFSETTO:+0200
TZNAME:CEST
DTSTART:20230326T010000
END:DAYLIGHT
BEGIN:STANDARD
TZOFFSETFROM:+0200
TZOFFSETTO:+0100
TZNAME:CET
DTSTART:20231029T010000
END:STANDARD
BEGIN:DAYLIGHT
TZOFFSETFROM:+0100
TZOFFSETTO:+0200
TZNAME:CEST
DTSTART:20240331T010000
END:DAYLIGHT
BEGIN:STANDARD
TZOFFSETFROM:+0200
TZOFFSETTO:+0100
TZNAME:CET
DTSTART:20241027T010000
END:STANDARD
BEGIN:DAYLIGHT
TZOFFSETFROM:+0100
TZOFFSETTO:+0200
TZNAME:CEST
DTSTART:20250330T010000
END:DAYLIGHT
BEGIN:STANDARD
TZOFFSETFROM:+0200
TZOFFSETTO:+0100
TZNAME:CET
DTSTART:20251026T010000
END:STANDARD
END:VTIMEZONE
BEGIN:VEVENT
DTSTART;TZID=Europe/Berlin:20240302T110000
DTEND;TZID=Europe/Berlin:20240302T150000
DTSTAMP:20260424T201631
CREATED:20240103T230017Z
LAST-MODIFIED:20231212T160314Z
UID:10878-1709377200-1709391600@www.kulturtreffbothfeld.de
SUMMARY:Workshop Hardanger-Stickerei
DESCRIPTION:Hardanger ist eine traditionelle Sticktechnik aus Norwegen\, die sich durch einen besonderen\, hübschen Durchbruch im Stoff auszeichnet. Der Workshop richtet sich an Anfänger*innen und Fortgeschrittene. Material kann vor Ort erstanden oder selbst mitgebracht werden. Nähere Infos bei der Anmeldung.\nAstrid Bauer (Mitglied Deutsch-Norwegische Freundschaftsgesellschaft DNF)\nTeilnahmegebühr: 18\,- € (plus zusätzliche Materialkosten vor Ort\, ca. 5 – 10\,- €)
URL:https://www.kulturtreffbothfeld.de/events/workshop-hardanger-stickerei-2/
CATEGORIES:Einzelveranstaltungen,Programm,Veranstaltungen
END:VEVENT
END:VCALENDAR