BEGIN:VCALENDAR
VERSION:2.0
PRODID:-//Kulturtreff Bothfeld - ECPv6.15.20//NONSGML v1.0//EN
CALSCALE:GREGORIAN
METHOD:PUBLISH
X-ORIGINAL-URL:https://www.kulturtreffbothfeld.de
X-WR-CALDESC:Veranstaltungen für Kulturtreff Bothfeld
REFRESH-INTERVAL;VALUE=DURATION:PT1H
X-Robots-Tag:noindex
X-PUBLISHED-TTL:PT1H
BEGIN:VTIMEZONE
TZID:Europe/Berlin
BEGIN:DAYLIGHT
TZOFFSETFROM:+0100
TZOFFSETTO:+0200
TZNAME:CEST
DTSTART:20230326T010000
END:DAYLIGHT
BEGIN:STANDARD
TZOFFSETFROM:+0200
TZOFFSETTO:+0100
TZNAME:CET
DTSTART:20231029T010000
END:STANDARD
BEGIN:DAYLIGHT
TZOFFSETFROM:+0100
TZOFFSETTO:+0200
TZNAME:CEST
DTSTART:20240331T010000
END:DAYLIGHT
BEGIN:STANDARD
TZOFFSETFROM:+0200
TZOFFSETTO:+0100
TZNAME:CET
DTSTART:20241027T010000
END:STANDARD
BEGIN:DAYLIGHT
TZOFFSETFROM:+0100
TZOFFSETTO:+0200
TZNAME:CEST
DTSTART:20250330T010000
END:DAYLIGHT
BEGIN:STANDARD
TZOFFSETFROM:+0200
TZOFFSETTO:+0100
TZNAME:CET
DTSTART:20251026T010000
END:STANDARD
END:VTIMEZONE
BEGIN:VEVENT
DTSTART;TZID=Europe/Berlin:20240308T103000
DTEND;TZID=Europe/Berlin:20240308T113000
DTSTAMP:20260424T184552
CREATED:20240103T230057Z
LAST-MODIFIED:20231214T110553Z
UID:10889-1709893800-1709897400@www.kulturtreffbothfeld.de
SUMMARY:Kindertheater: "Hans im Glück"
DESCRIPTION:Theater “Feuer und Flamme”\nNach sieben Jahren Arbeit erhält Hans von seinem Meister einen großen Klumpen Gold als Lohn und macht sich damit auf den Weg nach Hause. Doch der Klumpen trägt sich schlecht und als Hans einen Reiter trifft\, tauscht er das Gold gegen das Pferd ein. Das Pferd aber wirft Hans ab\, und so ist er froh\, es gegen eine Kuh eintauschen zu können. Doch die Kuh tritt ihn beim Melken und so tauscht er auch diese ein. Auf dem gesamten Heimweg tauscht Hans weiter und jeder neue Besitz macht ihn erst froh\, wenn er ihn wieder los ist. Am Ende ist Hans frei von aller Last und kommt mit dem höchsten Gefühl der Glückseligkeit Zuhause an.\nDauer: ca. 45 Min\, Alter: 4 – 9 Jahre\nEintritt: 5\,- €\nVorherige Anmeldung im Kulturtreff für Gruppen und Einzelpersonen erforderlich!\nIn Zusammenarbeit mit der Landeshauptstadt Hannover\, Fachbereich Kultur\, Stadtteilkultur.
URL:https://www.kulturtreffbothfeld.de/events/kindertheater-hans-im-glueck/
CATEGORIES:Einzelveranstaltungen,Kinder,Programm,Veranstaltungen
END:VEVENT
END:VCALENDAR