BEGIN:VCALENDAR
VERSION:2.0
PRODID:-//Kulturtreff Bothfeld - ECPv6.15.20//NONSGML v1.0//EN
CALSCALE:GREGORIAN
METHOD:PUBLISH
X-WR-CALNAME:Kulturtreff Bothfeld
X-ORIGINAL-URL:https://www.kulturtreffbothfeld.de
X-WR-CALDESC:Veranstaltungen für Kulturtreff Bothfeld
REFRESH-INTERVAL;VALUE=DURATION:PT1H
X-Robots-Tag:noindex
X-PUBLISHED-TTL:PT1H
BEGIN:VTIMEZONE
TZID:Europe/Berlin
BEGIN:DAYLIGHT
TZOFFSETFROM:+0100
TZOFFSETTO:+0200
TZNAME:CEST
DTSTART:20230326T010000
END:DAYLIGHT
BEGIN:STANDARD
TZOFFSETFROM:+0200
TZOFFSETTO:+0100
TZNAME:CET
DTSTART:20231029T010000
END:STANDARD
BEGIN:DAYLIGHT
TZOFFSETFROM:+0100
TZOFFSETTO:+0200
TZNAME:CEST
DTSTART:20240331T010000
END:DAYLIGHT
BEGIN:STANDARD
TZOFFSETFROM:+0200
TZOFFSETTO:+0100
TZNAME:CET
DTSTART:20241027T010000
END:STANDARD
BEGIN:DAYLIGHT
TZOFFSETFROM:+0100
TZOFFSETTO:+0200
TZNAME:CEST
DTSTART:20250330T010000
END:DAYLIGHT
BEGIN:STANDARD
TZOFFSETFROM:+0200
TZOFFSETTO:+0100
TZNAME:CET
DTSTART:20251026T010000
END:STANDARD
END:VTIMEZONE
BEGIN:VEVENT
DTSTART;TZID=Europe/Berlin:20240312T180000
DTEND;TZID=Europe/Berlin:20240312T193000
DTSTAMP:20260424T184317
CREATED:20240103T230053Z
LAST-MODIFIED:20240304T111518Z
UID:10901-1710266400-1710271800@www.kulturtreffbothfeld.de
SUMMARY:„In 80 Tagen um die Ostsee“
DESCRIPTION:Bericht von einer Sommer-Radreise\n\nCa. 11 Wochen waren Monika Sonneck und Wim Duijnisveld im Sommer 2017 mit dem Fahrrad unterwegs\, um die  Ostsee zu umrunden. Jeden Tag machten sie ein typisches Foto der Etappe\, so dass die langsame Veränderung der herrlichen Ostseelandschaft dieser neun Länder sichtbar wird.  Sie besuchten jeweils mehrere Tage lang interessante Städte wie Danzig\, Kaliningrad\, Riga\, Tallinn\, Helsinki\, Stockholm und Kopenhagen\, so dass ein Wechsel zwischen Großstadt und Natur entstand.  Am Ende waren sie um über 3000 km auf dem Tacho und viele kuriose Erlebnisse reicher\, von denen sie an diesem Abend anhand von ausgewählten Fotos berichten werden.\nGegen Spende vor Ort.\nDie Veranstaltung ist leider ausgebucht!
URL:https://www.kulturtreffbothfeld.de/events/in-80-tagen-um-die-ostsee/
CATEGORIES:Einzelveranstaltungen,Programm,Veranstaltungen
END:VEVENT
END:VCALENDAR