BEGIN:VCALENDAR
VERSION:2.0
PRODID:-//Kulturtreff Bothfeld - ECPv6.15.20//NONSGML v1.0//EN
CALSCALE:GREGORIAN
METHOD:PUBLISH
X-ORIGINAL-URL:https://www.kulturtreffbothfeld.de
X-WR-CALDESC:Veranstaltungen für Kulturtreff Bothfeld
REFRESH-INTERVAL;VALUE=DURATION:PT1H
X-Robots-Tag:noindex
X-PUBLISHED-TTL:PT1H
BEGIN:VTIMEZONE
TZID:Europe/Berlin
BEGIN:DAYLIGHT
TZOFFSETFROM:+0100
TZOFFSETTO:+0200
TZNAME:CEST
DTSTART:20230326T010000
END:DAYLIGHT
BEGIN:STANDARD
TZOFFSETFROM:+0200
TZOFFSETTO:+0100
TZNAME:CET
DTSTART:20231029T010000
END:STANDARD
BEGIN:DAYLIGHT
TZOFFSETFROM:+0100
TZOFFSETTO:+0200
TZNAME:CEST
DTSTART:20240331T010000
END:DAYLIGHT
BEGIN:STANDARD
TZOFFSETFROM:+0200
TZOFFSETTO:+0100
TZNAME:CET
DTSTART:20241027T010000
END:STANDARD
BEGIN:DAYLIGHT
TZOFFSETFROM:+0100
TZOFFSETTO:+0200
TZNAME:CEST
DTSTART:20250330T010000
END:DAYLIGHT
BEGIN:STANDARD
TZOFFSETFROM:+0200
TZOFFSETTO:+0100
TZNAME:CET
DTSTART:20251026T010000
END:STANDARD
END:VTIMEZONE
BEGIN:VEVENT
DTSTART;TZID=Europe/Berlin:20240507T150000
DTEND;TZID=Europe/Berlin:20240507T170000
DTSTAMP:20260424T152604
CREATED:20240408T062457Z
LAST-MODIFIED:20240408T062457Z
UID:11091-1715094000-1715101200@www.kulturtreffbothfeld.de
SUMMARY:Kaffeezeit mit Klönschnack und mehr
DESCRIPTION:Eine Möglichkeit\, um neue Menschen und alte Bekannte im Stadtteil zu treffen und zwei gesellige Stunden bei Kaffee/Tee\, Kuchen oder frischgebackenen Waffeln zu verbringen. Ein kleines Überraschungsangebot wird auch nicht fehlen: mal kreativ\, mal bewegend\, mal musikalisch\, mal nachdenklich\, mal was ganz Anderes… Seien Sie neugierig. Kommen Sie vorbei. Herzlich willkommen!\nUm vorherige Anmeldung wird gebeten\, damit wir kalkulieren können.
URL:https://www.kulturtreffbothfeld.de/events/kaffeezeit-mit-kloenschnack-und-mehr-9/
CATEGORIES:Einzelveranstaltungen,Kaffeezeit für SeniorInnen,Programm,Veranstaltungen
END:VEVENT
BEGIN:VEVENT
DTSTART;TZID=Europe/Berlin:20240507T190000
DTEND;TZID=Europe/Berlin:20240507T203000
DTSTAMP:20260424T152604
CREATED:20240330T093037Z
LAST-MODIFIED:20240306T093235Z
UID:11011-1715108400-1715113800@www.kulturtreffbothfeld.de
SUMMARY:Konzert: Duo Maliki
DESCRIPTION:Das schillernd farbenfrohe Repertoire von Chiara Raimonis (Gesang) und Markus Korda (Akkordeon\, Gitarre) enthält Rembetico aus Griechenland\, temperamentvolle Tangos\, melodiöse Musette\, beswingten Gypsy-Jazz sowie traditionelle und populäre Lieder aus ihren Heimatländern Italien und Deutschland – sozusagen das bunte Europa zum Zuhören. Das Duo Maliki vereint die virtuosen Farben und Leichtigkeit des Jazz mit der Kraft der Folklore.\nEintritt: 12\,- / erm. 10\,- €\nBei schönem Wetter findet das Konzert auf unserer Innenhof-Terrasse statt!\nAnmeldung erbeten\, nutzen Sie den Kartenvorverkauf!
URL:https://www.kulturtreffbothfeld.de/events/konzert-duo-maliki/
CATEGORIES:Einzelveranstaltungen,Programm,Veranstaltungen
END:VEVENT
END:VCALENDAR