BEGIN:VCALENDAR
VERSION:2.0
PRODID:-//Kulturtreff Bothfeld - ECPv6.15.20//NONSGML v1.0//EN
CALSCALE:GREGORIAN
METHOD:PUBLISH
X-ORIGINAL-URL:https://www.kulturtreffbothfeld.de
X-WR-CALDESC:Veranstaltungen für Kulturtreff Bothfeld
REFRESH-INTERVAL;VALUE=DURATION:PT1H
X-Robots-Tag:noindex
X-PUBLISHED-TTL:PT1H
BEGIN:VTIMEZONE
TZID:Europe/Berlin
BEGIN:DAYLIGHT
TZOFFSETFROM:+0100
TZOFFSETTO:+0200
TZNAME:CEST
DTSTART:20230326T010000
END:DAYLIGHT
BEGIN:STANDARD
TZOFFSETFROM:+0200
TZOFFSETTO:+0100
TZNAME:CET
DTSTART:20231029T010000
END:STANDARD
BEGIN:DAYLIGHT
TZOFFSETFROM:+0100
TZOFFSETTO:+0200
TZNAME:CEST
DTSTART:20240331T010000
END:DAYLIGHT
BEGIN:STANDARD
TZOFFSETFROM:+0200
TZOFFSETTO:+0100
TZNAME:CET
DTSTART:20241027T010000
END:STANDARD
BEGIN:DAYLIGHT
TZOFFSETFROM:+0100
TZOFFSETTO:+0200
TZNAME:CEST
DTSTART:20250330T010000
END:DAYLIGHT
BEGIN:STANDARD
TZOFFSETFROM:+0200
TZOFFSETTO:+0100
TZNAME:CET
DTSTART:20251026T010000
END:STANDARD
END:VTIMEZONE
BEGIN:VEVENT
DTSTART;TZID=Europe/Berlin:20240524T190000
DTEND;TZID=Europe/Berlin:20240524T200000
DTSTAMP:20260424T152809
CREATED:20240330T094546Z
LAST-MODIFIED:20240524T133826Z
UID:11026-1716577200-1716580800@www.kulturtreffbothfeld.de
SUMMARY:KNO: „CarmeLaster…eine Frau und ihr Laster“
DESCRIPTION:La Tanik: „CarmeLaster…eine Frau und ihr Laster“ \n\n \n\n\nAchtung: die Veranstaltung findet aufgrund des Regenwetters im Kulturtreff Vahrenheide\,  Wartburgstrasse 10 statt!\n\n\nCarmela\, 1\,56 m groß\,140 PS (!)\, ist eine durchgeknallte Tänzerin\, liebenswerte Akrobatin und Virtuosin mit Hula-Hoops\, die Äpfel mit einem einzigen Hüftschwung spaltet. Unterwegs mit ihrem lila Lastwagen und einer Horde dressierter Reifen präsentiert sie ihren „Circus Carmela“. Dort ist sie Direktorin\, Künstlerin\, Technikerin und Fahrerin zugleich. In ihrer aktuellen Show „CarmeLasterbewegt“ belebt und bespielt sie den 7\,5-Tonner in einem wilden Mix aus visuellem Theater und autobiografischer Comedy. Klischees kommen bei ihr einfach unter die Räder – die vom fahrenden Volk und das von den echten Kerlen und den starken Maschinen sowieso. Ein einzigartiges Zirkus -Theaterstück mit und auf einem lila Laster.\nIm Anschluss an die Vorstellung besteht für die Zuschauenden die Möglichkeit\, an einer „Sprechstunde“ mit Carmen La Tanik teilzunehmen.\nKommen Sie gern schon ab 18.30h mit Picknickdecke und einem kleinen Snack vorbei. Getränke gibt es vor Ort.\nOrt: am Märchensee (Holzwiesen/Pinoccioweg)\, \n\nAchtung: die Veranstaltung findet aufgrund des Regenwetters im Kulturtreff Vahrenheide\,  Wartburgstrasse 10 statt!\n\nohne Anmeldung\nEintritt frei\, Spende vor Ort möglich \nEine gemeinsame Veranstaltung von Kultur-Nord-Ost (Kulturtreff Bothfeld\, Kulturtreff Vahrenheide und Stadtteiltreff Sahlkamp) in Kooperation mit der Stadtteilkultur Hannover
URL:https://www.kulturtreffbothfeld.de/events/kno-carmelastereine-frau-und-ihr-laster/
CATEGORIES:Einzelveranstaltungen,Programm,Veranstaltungen
END:VEVENT
END:VCALENDAR