BEGIN:VCALENDAR
VERSION:2.0
PRODID:-//Kulturtreff Bothfeld - ECPv6.15.20//NONSGML v1.0//EN
CALSCALE:GREGORIAN
METHOD:PUBLISH
X-ORIGINAL-URL:https://www.kulturtreffbothfeld.de
X-WR-CALDESC:Veranstaltungen für Kulturtreff Bothfeld
REFRESH-INTERVAL;VALUE=DURATION:PT1H
X-Robots-Tag:noindex
X-PUBLISHED-TTL:PT1H
BEGIN:VTIMEZONE
TZID:Europe/Berlin
BEGIN:DAYLIGHT
TZOFFSETFROM:+0100
TZOFFSETTO:+0200
TZNAME:CEST
DTSTART:20230326T010000
END:DAYLIGHT
BEGIN:STANDARD
TZOFFSETFROM:+0200
TZOFFSETTO:+0100
TZNAME:CET
DTSTART:20231029T010000
END:STANDARD
BEGIN:DAYLIGHT
TZOFFSETFROM:+0100
TZOFFSETTO:+0200
TZNAME:CEST
DTSTART:20240331T010000
END:DAYLIGHT
BEGIN:STANDARD
TZOFFSETFROM:+0200
TZOFFSETTO:+0100
TZNAME:CET
DTSTART:20241027T010000
END:STANDARD
BEGIN:DAYLIGHT
TZOFFSETFROM:+0100
TZOFFSETTO:+0200
TZNAME:CEST
DTSTART:20250330T010000
END:DAYLIGHT
BEGIN:STANDARD
TZOFFSETFROM:+0200
TZOFFSETTO:+0100
TZNAME:CET
DTSTART:20251026T010000
END:STANDARD
END:VTIMEZONE
BEGIN:VEVENT
DTSTART;TZID=Europe/Berlin:20240823T160000
DTEND;TZID=Europe/Berlin:20240823T180000
DTSTAMP:20260424T104752
CREATED:20240721T220846Z
LAST-MODIFIED:20240704T082117Z
UID:11286-1724428800-1724436000@www.kulturtreffbothfeld.de
SUMMARY:Tausch-Börse
DESCRIPTION:Für die Herstellung von Kleidung oder Büchern werden viele Ressourcen benötigt\, so dass es sinnvoll ist\, sie möglichst lange zu nutzen. Heute haben Sie die Möglichkeit „alte Schätzchen“ weiter zu geben und neue zu entdecken.\nSo funktioniert es: bringen Sie insgesamt maximal 15 gut erhaltene Teile aus den Bereichen Kleidung\, Accessoires\, Bücher oder Künstler*innenbedarf mit. Im Gegenzug können Sie aus dem gesammelten Angebot maximal 15 Teile wieder mitnehmen.\nZwischen dem Stöbern bleibt sicherlich auch Zeit für einen Kaffee/Tee\, eine Waffel und Gespräche mit den anderen Tauschlustigen.\nBei schönem Wetter beziehen wir unseren lauschigen Innenhof mit ein. \nVorherige Anmeldung erforderlich\, Anmeldegebühr: 2\,- €
URL:https://www.kulturtreffbothfeld.de/events/tausch-boerse/
CATEGORIES:Einzelveranstaltungen,Programm,StadteilKULTUR-NATURverbunden,Veranstaltungen
END:VEVENT
END:VCALENDAR