BEGIN:VCALENDAR
VERSION:2.0
PRODID:-//Kulturtreff Bothfeld - ECPv6.15.20//NONSGML v1.0//EN
CALSCALE:GREGORIAN
METHOD:PUBLISH
X-ORIGINAL-URL:https://www.kulturtreffbothfeld.de
X-WR-CALDESC:Veranstaltungen für Kulturtreff Bothfeld
REFRESH-INTERVAL;VALUE=DURATION:PT1H
X-Robots-Tag:noindex
X-PUBLISHED-TTL:PT1H
BEGIN:VTIMEZONE
TZID:Europe/Berlin
BEGIN:DAYLIGHT
TZOFFSETFROM:+0100
TZOFFSETTO:+0200
TZNAME:CEST
DTSTART:20230326T010000
END:DAYLIGHT
BEGIN:STANDARD
TZOFFSETFROM:+0200
TZOFFSETTO:+0100
TZNAME:CET
DTSTART:20231029T010000
END:STANDARD
BEGIN:DAYLIGHT
TZOFFSETFROM:+0100
TZOFFSETTO:+0200
TZNAME:CEST
DTSTART:20240331T010000
END:DAYLIGHT
BEGIN:STANDARD
TZOFFSETFROM:+0200
TZOFFSETTO:+0100
TZNAME:CET
DTSTART:20241027T010000
END:STANDARD
BEGIN:DAYLIGHT
TZOFFSETFROM:+0100
TZOFFSETTO:+0200
TZNAME:CEST
DTSTART:20250330T010000
END:DAYLIGHT
BEGIN:STANDARD
TZOFFSETFROM:+0200
TZOFFSETTO:+0100
TZNAME:CET
DTSTART:20251026T010000
END:STANDARD
END:VTIMEZONE
BEGIN:VEVENT
DTSTART;TZID=Europe/Berlin:20240829T123000
DTEND;TZID=Europe/Berlin:20240829T130000
DTSTAMP:20260422T214551
CREATED:20240701T100024Z
LAST-MODIFIED:20240701T100429Z
UID:11276-1724934600-1724936400@www.kulturtreffbothfeld.de
SUMMARY:MittagsMusik: Angela Klöhn
DESCRIPTION:„MittagsMusik“ – kleine Konzerte zur Mittagszeit\nIn unserer Reihe „MittagsMusik“ bieten wir Ihnen auf unserer grünen\, lauschigen Innenhof-Terrasse wieder feine Konzerthäppchen „für zwischendurch“.\nDie Konzerte finden draußen statt – bei sehr schlechtem Wetter ausnahmsweise auch drin!\nDer Eintritt ist frei\, um eine angemessene Spende wird gebeten.\nUm vorherige Anmeldung wird gebeten. \nDonnerstag\, 29. August: Angela Klöhn (Harfe)\nZu entspannenden Harfenklängen am Mittag lädt Sie die Harfenistin Angela Klöhn aus Hannover ein. Entfliehen Sie für einen Moment dem Alltag und tauchen Sie ein in eine Welt voller zauberhafter Musik. Es werden bekannte Melodien wie Leonard Cohens „Hallelujah“ ebenso wie Naturklänge und irische Balladen zu hören sein. Im Anschluss besteht die Möglichkeit\, sich das Instrument aus der Nähe anzuschauen und an einer Saite selbst zu zupfen. \n  \n  \n 
URL:https://www.kulturtreffbothfeld.de/events/mittagsmusik-duo-latinesque-2/
CATEGORIES:Einzelveranstaltungen,MittagsMusik,Programm,Veranstaltungen
END:VEVENT
END:VCALENDAR