BEGIN:VCALENDAR
VERSION:2.0
PRODID:-//Kulturtreff Bothfeld - ECPv6.15.20//NONSGML v1.0//EN
CALSCALE:GREGORIAN
METHOD:PUBLISH
X-WR-CALNAME:Kulturtreff Bothfeld
X-ORIGINAL-URL:https://www.kulturtreffbothfeld.de
X-WR-CALDESC:Veranstaltungen für Kulturtreff Bothfeld
REFRESH-INTERVAL;VALUE=DURATION:PT1H
X-Robots-Tag:noindex
X-PUBLISHED-TTL:PT1H
BEGIN:VTIMEZONE
TZID:Europe/Berlin
BEGIN:DAYLIGHT
TZOFFSETFROM:+0100
TZOFFSETTO:+0200
TZNAME:CEST
DTSTART:20230326T010000
END:DAYLIGHT
BEGIN:STANDARD
TZOFFSETFROM:+0200
TZOFFSETTO:+0100
TZNAME:CET
DTSTART:20231029T010000
END:STANDARD
BEGIN:DAYLIGHT
TZOFFSETFROM:+0100
TZOFFSETTO:+0200
TZNAME:CEST
DTSTART:20240331T010000
END:DAYLIGHT
BEGIN:STANDARD
TZOFFSETFROM:+0200
TZOFFSETTO:+0100
TZNAME:CET
DTSTART:20241027T010000
END:STANDARD
BEGIN:DAYLIGHT
TZOFFSETFROM:+0100
TZOFFSETTO:+0200
TZNAME:CEST
DTSTART:20250330T010000
END:DAYLIGHT
BEGIN:STANDARD
TZOFFSETFROM:+0200
TZOFFSETTO:+0100
TZNAME:CET
DTSTART:20251026T010000
END:STANDARD
END:VTIMEZONE
BEGIN:VEVENT
DTSTART;TZID=Europe/Berlin:20240913T190000
DTEND;TZID=Europe/Berlin:20240913T203000
DTSTAMP:20260422T213347
CREATED:20240721T224336Z
LAST-MODIFIED:20240725T062135Z
UID:11294-1726254000-1726259400@www.kulturtreffbothfeld.de
SUMMARY:Eröffnungsfeier Bothfelder Kunstspaziergang
DESCRIPTION:Zum Auftakt des 9. Bothfelder Kunstspaziergangs laden wir Sie herzlich ein zu einer kleinen Eröffnungsfeier! In netter Atmosphäre und bei Getränken und kleinen Snacks können Sie sich entspannt auf das Kunstspaziergangs-Wochenende einstimmen.\nSchauen Sie vorbei und kommen mit den Künstlerinnen und Künstlern ins Gespräch. Verschaffen Sie sich einen Eindruck von der Überblicksausstellung\, in der alle Beteiligten mit je einem Werk vertreten sind. Lassen Sie sich inspirieren und planen schon einmal Ihre Route für Samstag und Sonntag.\nKostenlos\, Anmeldung erwünscht. \nWeitere Informationen zum Kunstspaziergangs-Wochenende finden Sie im Menü unter dem Extra-Button “Bothfelder Kunstspaziergang 2024”!
URL:https://www.kulturtreffbothfeld.de/events/eroeffnungsfeier-bothfelder-kunstspaziergang-2/
CATEGORIES:Einzelveranstaltungen,Programm,Veranstaltungen
END:VEVENT
END:VCALENDAR