BEGIN:VCALENDAR
VERSION:2.0
PRODID:-//Kulturtreff Bothfeld - ECPv6.15.20//NONSGML v1.0//EN
CALSCALE:GREGORIAN
METHOD:PUBLISH
X-ORIGINAL-URL:https://www.kulturtreffbothfeld.de
X-WR-CALDESC:Veranstaltungen für Kulturtreff Bothfeld
REFRESH-INTERVAL;VALUE=DURATION:PT1H
X-Robots-Tag:noindex
X-PUBLISHED-TTL:PT1H
BEGIN:VTIMEZONE
TZID:Europe/Berlin
BEGIN:DAYLIGHT
TZOFFSETFROM:+0100
TZOFFSETTO:+0200
TZNAME:CEST
DTSTART:20230326T010000
END:DAYLIGHT
BEGIN:STANDARD
TZOFFSETFROM:+0200
TZOFFSETTO:+0100
TZNAME:CET
DTSTART:20231029T010000
END:STANDARD
BEGIN:DAYLIGHT
TZOFFSETFROM:+0100
TZOFFSETTO:+0200
TZNAME:CEST
DTSTART:20240331T010000
END:DAYLIGHT
BEGIN:STANDARD
TZOFFSETFROM:+0200
TZOFFSETTO:+0100
TZNAME:CET
DTSTART:20241027T010000
END:STANDARD
BEGIN:DAYLIGHT
TZOFFSETFROM:+0100
TZOFFSETTO:+0200
TZNAME:CEST
DTSTART:20250330T010000
END:DAYLIGHT
BEGIN:STANDARD
TZOFFSETFROM:+0200
TZOFFSETTO:+0100
TZNAME:CET
DTSTART:20251026T010000
END:STANDARD
END:VTIMEZONE
BEGIN:VEVENT
DTSTART;TZID=Europe/Berlin:20240930T190000
DTEND;TZID=Europe/Berlin:20240930T203000
DTSTAMP:20260422T200816
CREATED:20240721T224955Z
LAST-MODIFIED:20240926T061946Z
UID:11300-1727722800-1727728200@www.kulturtreffbothfeld.de
SUMMARY:Film: Romys Salon - Achtung: ausgebucht!
DESCRIPTION:Die zehnjährige Romy fühlt sich abgeschoben\, als ihre Mutter Margot einen Vollzeitjob annimmt und Romy nach der Schule in Omas Friseursalon „parkt“. Auch Oma Stine ist nicht begeistert\, sie ist streng und ordentlich und ein Kind stört nur bei der Arbeit. Doch dann ändert sich etwas: Stine vergisst auf einmal Dinge\, spricht plötzlich Dänisch und erzählt von ihrer Kindheit in Dänemark. Romy übernimmt immer mehr Aufgaben im Salon und unterstützt ihre Oma\, wo sie kann\, damit keiner etwas merkt. Bis zu dem Tag\, an dem Stine plötzlich im Nachthemd auf der Arbeit erscheint … Stine hat Alzheimer und soll nun in ein Pflegeheim. Doch Romy ist anderer Meinung und wird zur gewitzten Komplizin im Kampf um Freiheit und Würde für ihre Großmutter.\nEin berührender Film ohne Kitsch\, aber mit Substanz und einem begeisternd-sympathischen Oma-Enkelin-Gespann.\nDE/NL 2020\, Dauer ca. 90 Minuten \nVorherige Anmeldung erforderlich. \nEintritt frei\, um eine Spende vor Ort wird gebeten.
URL:https://www.kulturtreffbothfeld.de/events/film-romys-salon/
CATEGORIES:Einzelveranstaltungen,Programm,Veranstaltungen
END:VEVENT
END:VCALENDAR