BEGIN:VCALENDAR
VERSION:2.0
PRODID:-//Kulturtreff Bothfeld - ECPv6.15.20//NONSGML v1.0//EN
CALSCALE:GREGORIAN
METHOD:PUBLISH
X-WR-CALNAME:Kulturtreff Bothfeld
X-ORIGINAL-URL:https://www.kulturtreffbothfeld.de
X-WR-CALDESC:Veranstaltungen für Kulturtreff Bothfeld
REFRESH-INTERVAL;VALUE=DURATION:PT1H
X-Robots-Tag:noindex
X-PUBLISHED-TTL:PT1H
BEGIN:VTIMEZONE
TZID:Europe/Berlin
BEGIN:DAYLIGHT
TZOFFSETFROM:+0100
TZOFFSETTO:+0200
TZNAME:CEST
DTSTART:20230326T010000
END:DAYLIGHT
BEGIN:STANDARD
TZOFFSETFROM:+0200
TZOFFSETTO:+0100
TZNAME:CET
DTSTART:20231029T010000
END:STANDARD
BEGIN:DAYLIGHT
TZOFFSETFROM:+0100
TZOFFSETTO:+0200
TZNAME:CEST
DTSTART:20240331T010000
END:DAYLIGHT
BEGIN:STANDARD
TZOFFSETFROM:+0200
TZOFFSETTO:+0100
TZNAME:CET
DTSTART:20241027T010000
END:STANDARD
BEGIN:DAYLIGHT
TZOFFSETFROM:+0100
TZOFFSETTO:+0200
TZNAME:CEST
DTSTART:20250330T010000
END:DAYLIGHT
BEGIN:STANDARD
TZOFFSETFROM:+0200
TZOFFSETTO:+0100
TZNAME:CET
DTSTART:20251026T010000
END:STANDARD
END:VTIMEZONE
BEGIN:VEVENT
DTSTART;TZID=Europe/Berlin:20241105T173000
DTEND;TZID=Europe/Berlin:20241105T190000
DTSTAMP:20260422T175920
CREATED:20241029T072120Z
LAST-MODIFIED:20241029T104412Z
UID:11874-1730827800-1730833200@www.kulturtreffbothfeld.de
SUMMARY:Vernissage: Acrylbilder von Heike Wollborn
DESCRIPTION:Kreativ zu sein und den Dingen ein individuelles Etwas zu geben liebt Heike Wollborn schon seit ihrer Kindheit. Da wundert es nicht\, dass sie ihre Fähigkeiten zum Beruf gemacht hat. Seit 1993 ist sie selbstständige Layoutgestalterin und bereits seit acht Jahren gestaltet sie für den Kulturtreff Bothfeld das Layout des Programmheftes.\nDas Malen mit Acryl war ursprünglich das Austesten einer Neugier\, hat sich dann aber zu einem Ritual entwickelt: Seit vielen Jahren entstehen aus den Bildmotiven handgefertigte\, limitierte Karten\, die sie zur Weihnachtszeit an ihre Geschäftspartner*innen verschickt. Die Originalbilder und andere sind nun erstmalig in dieser Ausstellung zu sehen.\nZur Vernissage am Dienstag\, 05.11. um 17.30 Uhr laden wir Sie herzlich ein. Um vorherige Anmeldung wird gebeten.
URL:https://www.kulturtreffbothfeld.de/events/ausstellung-acrylbilder-von-heike-wollborn/
CATEGORIES:Einzelveranstaltungen
ATTACH;FMTTYPE=image/jpeg:https://www.kulturtreffbothfeld.de/wp-content/uploads/2024/10/Ausstellung_havey.jpg
END:VEVENT
END:VCALENDAR