BEGIN:VCALENDAR
VERSION:2.0
PRODID:-//Kulturtreff Bothfeld - ECPv6.15.20//NONSGML v1.0//EN
CALSCALE:GREGORIAN
METHOD:PUBLISH
X-ORIGINAL-URL:https://www.kulturtreffbothfeld.de
X-WR-CALDESC:Veranstaltungen für Kulturtreff Bothfeld
REFRESH-INTERVAL;VALUE=DURATION:PT1H
X-Robots-Tag:noindex
X-PUBLISHED-TTL:PT1H
BEGIN:VTIMEZONE
TZID:Europe/Berlin
BEGIN:DAYLIGHT
TZOFFSETFROM:+0100
TZOFFSETTO:+0200
TZNAME:CEST
DTSTART:20230326T010000
END:DAYLIGHT
BEGIN:STANDARD
TZOFFSETFROM:+0200
TZOFFSETTO:+0100
TZNAME:CET
DTSTART:20231029T010000
END:STANDARD
BEGIN:DAYLIGHT
TZOFFSETFROM:+0100
TZOFFSETTO:+0200
TZNAME:CEST
DTSTART:20240331T010000
END:DAYLIGHT
BEGIN:STANDARD
TZOFFSETFROM:+0200
TZOFFSETTO:+0100
TZNAME:CET
DTSTART:20241027T010000
END:STANDARD
BEGIN:DAYLIGHT
TZOFFSETFROM:+0100
TZOFFSETTO:+0200
TZNAME:CEST
DTSTART:20250330T010000
END:DAYLIGHT
BEGIN:STANDARD
TZOFFSETFROM:+0200
TZOFFSETTO:+0100
TZNAME:CET
DTSTART:20251026T010000
END:STANDARD
END:VTIMEZONE
BEGIN:VEVENT
DTSTART;TZID=Europe/Berlin:20241125T140000
DTEND;TZID=Europe/Berlin:20241125T153000
DTSTAMP:20260422T165252
CREATED:20240722T074143Z
LAST-MODIFIED:20240709T075331Z
UID:11428-1732543200-1732548600@www.kulturtreffbothfeld.de
SUMMARY:Sozialer Stadtrundgang: Asphalt zeigt Ihnen das andere Hannover…
DESCRIPTION:Der Stadtrundgang führt Sie im Schatten teurer Fassaden an Orte\, wo Wohnungslose keine Randgruppe sind. Erleben Sie die Straße neu und lernen Sie spezielle Anlaufstellen kennen: Wo sind Schlafplätze obdachloser Menschen? Wo duschen sie\, wo waschen sie ihre Wäsche? Wo sind die Konfliktzonen? Die Asphalt-Stadtführer*innen zeigen Ihnen auf ihren persönlichen Rundgängen Ecken Hannovers\, an denen sich das Leben der Wohnungslosen abspielt und beantworten Ihre neugierigen Fragen.\nTreffpunkt : Asphalt gGmbH\, Hallerstraße 3\, 30161 Hannover\nVorherige Anmeldung und Bezahlung im Kulturtreff erforderlich!\nFür die Teilnahme erbittet Asphalt einen Kostenbeitrag von 10\,- Euro; von SchülerInnen/Studierenden/BFD und FSJ jeweils 5 Euro pro Person
URL:https://www.kulturtreffbothfeld.de/events/sozialer-stadtrundgang-ashalt-zeigt-ihnen-das-andere-hannover/
CATEGORIES:Einzelveranstaltungen,Programm,Veranstaltungen
END:VEVENT
END:VCALENDAR