BEGIN:VCALENDAR
VERSION:2.0
PRODID:-//Kulturtreff Bothfeld - ECPv6.15.20//NONSGML v1.0//EN
CALSCALE:GREGORIAN
METHOD:PUBLISH
X-WR-CALNAME:Kulturtreff Bothfeld
X-ORIGINAL-URL:https://www.kulturtreffbothfeld.de
X-WR-CALDESC:Veranstaltungen für Kulturtreff Bothfeld
REFRESH-INTERVAL;VALUE=DURATION:PT1H
X-Robots-Tag:noindex
X-PUBLISHED-TTL:PT1H
BEGIN:VTIMEZONE
TZID:Europe/Berlin
BEGIN:DAYLIGHT
TZOFFSETFROM:+0100
TZOFFSETTO:+0200
TZNAME:CEST
DTSTART:20230326T010000
END:DAYLIGHT
BEGIN:STANDARD
TZOFFSETFROM:+0200
TZOFFSETTO:+0100
TZNAME:CET
DTSTART:20231029T010000
END:STANDARD
BEGIN:DAYLIGHT
TZOFFSETFROM:+0100
TZOFFSETTO:+0200
TZNAME:CEST
DTSTART:20240331T010000
END:DAYLIGHT
BEGIN:STANDARD
TZOFFSETFROM:+0200
TZOFFSETTO:+0100
TZNAME:CET
DTSTART:20241027T010000
END:STANDARD
BEGIN:DAYLIGHT
TZOFFSETFROM:+0100
TZOFFSETTO:+0200
TZNAME:CEST
DTSTART:20250330T010000
END:DAYLIGHT
BEGIN:STANDARD
TZOFFSETFROM:+0200
TZOFFSETTO:+0100
TZNAME:CET
DTSTART:20251026T010000
END:STANDARD
END:VTIMEZONE
BEGIN:VEVENT
DTSTART;TZID=Europe/Berlin:20241128T153000
DTEND;TZID=Europe/Berlin:20241128T173000
DTSTAMP:20260422T164716
CREATED:20240722T074446Z
LAST-MODIFIED:20240709T074625Z
UID:11430-1732807800-1732815000@www.kulturtreffbothfeld.de
SUMMARY:Besuch im Landesmuseum: Auf Entdeckungstour durch die Naturwelten
DESCRIPTION:Besuch im Landesmuseum: Auf Entdeckungstour durch die Naturwelten (Führung und Workshop)\nGemeinsam mit der Familie einen Streifzug durch die NaturWelten unternehmen und dabei viele spannende Museumsgeschichten hören. Ob zur bunten Welt der Fische\, zu den exotischen Tieren von Mittelmeer\, Kanaren\, Karibik und Südamerika – hier gibt es Spannendes und Wissenswertes für Groß und Klein. Natürlich darf auch ein Exkurs in die Urzeit zu den Dinosauriern nicht fehlen. Und im Anschluss an die Führung modellieren wir noch selbst Tiere!\nFür Kinder ab 5 Jahren geeignet\nTeilnahmebeitrag: Erw. 10\,-€/ Ki 6\,-€ (Eintritt\, Führung und Workshop) \nTreffpunkt: Landesmuseum\, Willy-Brandt-Allee 5\nVorherige Anmeldung und Bezahlung im Kulturtreff erforderlich!
URL:https://www.kulturtreffbothfeld.de/events/besuch-im-landesmuseum-auf-entdeckungstour-durch-die-naturwelten/
CATEGORIES:Einzelveranstaltungen,Kinder,Programm,Veranstaltungen
END:VEVENT
END:VCALENDAR