BEGIN:VCALENDAR
VERSION:2.0
PRODID:-//Kulturtreff Bothfeld - ECPv6.15.20//NONSGML v1.0//EN
CALSCALE:GREGORIAN
METHOD:PUBLISH
X-WR-CALNAME:Kulturtreff Bothfeld
X-ORIGINAL-URL:https://www.kulturtreffbothfeld.de
X-WR-CALDESC:Veranstaltungen für Kulturtreff Bothfeld
REFRESH-INTERVAL;VALUE=DURATION:PT1H
X-Robots-Tag:noindex
X-PUBLISHED-TTL:PT1H
BEGIN:VTIMEZONE
TZID:Europe/Berlin
BEGIN:DAYLIGHT
TZOFFSETFROM:+0100
TZOFFSETTO:+0200
TZNAME:CEST
DTSTART:20230326T010000
END:DAYLIGHT
BEGIN:STANDARD
TZOFFSETFROM:+0200
TZOFFSETTO:+0100
TZNAME:CET
DTSTART:20231029T010000
END:STANDARD
BEGIN:DAYLIGHT
TZOFFSETFROM:+0100
TZOFFSETTO:+0200
TZNAME:CEST
DTSTART:20240331T010000
END:DAYLIGHT
BEGIN:STANDARD
TZOFFSETFROM:+0200
TZOFFSETTO:+0100
TZNAME:CET
DTSTART:20241027T010000
END:STANDARD
BEGIN:DAYLIGHT
TZOFFSETFROM:+0100
TZOFFSETTO:+0200
TZNAME:CEST
DTSTART:20250330T010000
END:DAYLIGHT
BEGIN:STANDARD
TZOFFSETFROM:+0200
TZOFFSETTO:+0100
TZNAME:CET
DTSTART:20251026T010000
END:STANDARD
END:VTIMEZONE
BEGIN:VEVENT
DTSTART;TZID=Europe/Berlin:20241202T150000
DTEND;TZID=Europe/Berlin:20241202T163000
DTSTAMP:20260422T165114
CREATED:20240722T074631Z
LAST-MODIFIED:20240709T074749Z
UID:11433-1733151600-1733157000@www.kulturtreffbothfeld.de
SUMMARY:Besuch Kaffeerösterei "Panea"
DESCRIPTION:In der Specialty-Coffee Rösterei mit kleiner Kaffeebar am Pariser Platz im schönen Linden-Mitte gibt es Kaffeebohnen für Zuhause\, Zubehör\, leckeren Croissants\, natürlich Kaffee & Tee und einiges mehr. Da dürfen Sie mal reinschnuppern\, zuschauen und einiges über das Kaffeerösten erfahren. Anschließend besteht die Möglichkeit noch eine Kaffeespezialität zu erwerben.\nTeilnahmebeitrag: 3\,-€\nTreffpunkt: Teichstr.1/Pariser Platz\nVorherige Anmeldung und Bezahlung im Kulturtreff erforderlich!
URL:https://www.kulturtreffbothfeld.de/events/besuch-kaffeeroesterei-panea/
CATEGORIES:Einzelveranstaltungen,Programm,Veranstaltungen
END:VEVENT
END:VCALENDAR