BEGIN:VCALENDAR
VERSION:2.0
PRODID:-//Kulturtreff Bothfeld - ECPv6.15.20//NONSGML v1.0//EN
CALSCALE:GREGORIAN
METHOD:PUBLISH
X-WR-CALNAME:Kulturtreff Bothfeld
X-ORIGINAL-URL:https://www.kulturtreffbothfeld.de
X-WR-CALDESC:Veranstaltungen für Kulturtreff Bothfeld
REFRESH-INTERVAL;VALUE=DURATION:PT1H
X-Robots-Tag:noindex
X-PUBLISHED-TTL:PT1H
BEGIN:VTIMEZONE
TZID:Europe/Berlin
BEGIN:DAYLIGHT
TZOFFSETFROM:+0100
TZOFFSETTO:+0200
TZNAME:CEST
DTSTART:20230326T010000
END:DAYLIGHT
BEGIN:STANDARD
TZOFFSETFROM:+0200
TZOFFSETTO:+0100
TZNAME:CET
DTSTART:20231029T010000
END:STANDARD
BEGIN:DAYLIGHT
TZOFFSETFROM:+0100
TZOFFSETTO:+0200
TZNAME:CEST
DTSTART:20240331T010000
END:DAYLIGHT
BEGIN:STANDARD
TZOFFSETFROM:+0200
TZOFFSETTO:+0100
TZNAME:CET
DTSTART:20241027T010000
END:STANDARD
BEGIN:DAYLIGHT
TZOFFSETFROM:+0100
TZOFFSETTO:+0200
TZNAME:CEST
DTSTART:20250330T010000
END:DAYLIGHT
BEGIN:STANDARD
TZOFFSETFROM:+0200
TZOFFSETTO:+0100
TZNAME:CET
DTSTART:20251026T010000
END:STANDARD
END:VTIMEZONE
BEGIN:VEVENT
DTSTART;TZID=Europe/Berlin:20241203T163000
DTEND;TZID=Europe/Berlin:20241203T190000
DTSTAMP:20260422T164852
CREATED:20240722T074751Z
LAST-MODIFIED:20240709T075120Z
UID:11435-1733243400-1733252400@www.kulturtreffbothfeld.de
SUMMARY:Farbenfrohe Papierkunst - Collagen
DESCRIPTION:Mit Motivausrissen und Farbschnipseln aus alten Programmheften des Kulturtreffs können Bilder „gemalt“ oder auch Gegenstände wie z.B. Dosen- und Schraubglasdeckel farbenfroh gestaltet werden. Durch reißen\, neu anordnen\, kleben und fixieren entstehen kleine Kunstwerke und das bedruckte Papier kann sich so noch einmal nützlich machen.\nAlle Materialien incl. Malkarton\, Dosen und Gläsern und sind vorrätig\, können aber auch gerne mitgebracht werden.\nLeitung: Elke Wittrin (experimentiert mit Papier und Kleister)\nKosten: 6\,- € HAP 3\,- € Vorherige Anmeldung erforderlich.
URL:https://www.kulturtreffbothfeld.de/events/farbenfrohe-papierkunst-collagen/
CATEGORIES:Einzelveranstaltungen,Programm,StadteilKULTUR-NATURverbunden,Veranstaltungen
END:VEVENT
END:VCALENDAR