BEGIN:VCALENDAR
VERSION:2.0
PRODID:-//Kulturtreff Bothfeld - ECPv6.15.20//NONSGML v1.0//EN
CALSCALE:GREGORIAN
METHOD:PUBLISH
X-ORIGINAL-URL:https://www.kulturtreffbothfeld.de
X-WR-CALDESC:Veranstaltungen für Kulturtreff Bothfeld
REFRESH-INTERVAL;VALUE=DURATION:PT1H
X-Robots-Tag:noindex
X-PUBLISHED-TTL:PT1H
BEGIN:VTIMEZONE
TZID:Europe/Berlin
BEGIN:DAYLIGHT
TZOFFSETFROM:+0100
TZOFFSETTO:+0200
TZNAME:CEST
DTSTART:20240331T010000
END:DAYLIGHT
BEGIN:STANDARD
TZOFFSETFROM:+0200
TZOFFSETTO:+0100
TZNAME:CET
DTSTART:20241027T010000
END:STANDARD
BEGIN:DAYLIGHT
TZOFFSETFROM:+0100
TZOFFSETTO:+0200
TZNAME:CEST
DTSTART:20250330T010000
END:DAYLIGHT
BEGIN:STANDARD
TZOFFSETFROM:+0200
TZOFFSETTO:+0100
TZNAME:CET
DTSTART:20251026T010000
END:STANDARD
BEGIN:DAYLIGHT
TZOFFSETFROM:+0100
TZOFFSETTO:+0200
TZNAME:CEST
DTSTART:20260329T010000
END:DAYLIGHT
BEGIN:STANDARD
TZOFFSETFROM:+0200
TZOFFSETTO:+0100
TZNAME:CET
DTSTART:20261025T010000
END:STANDARD
END:VTIMEZONE
BEGIN:VEVENT
DTSTART;TZID=Europe/Berlin:20250128T190000
DTEND;TZID=Europe/Berlin:20250128T203000
DTSTAMP:20260422T131550
CREATED:20241231T230008Z
LAST-MODIFIED:20250127T072809Z
UID:11913-1738090800-1738096200@www.kulturtreffbothfeld.de
SUMMARY:Filmabend - Achtung: ausgebucht!
DESCRIPTION:„Die goldenen Jahre“\n\nDer Tag\, an dem Peter pensioniert wurde\, sollte für ihn und Alice eigentlich der Aufbruch in eine schöne und spannende neue Lebensphase sein. Doch irgendwie kommen die beiden plötzlich so gar nicht mehr miteinander klar. Alice ist neugierig auf die Welt\, will reisen\, neue Menschen kennenlernen – und Peter lieber seine Ruhe. Als Peter dann sogar noch seinen besten Freund mit auf eine Kreuzfahrt nimmt\, die eigentlich nur für die beiden bestimmt war\, reicht es Alice und sie verlässt das Schiff –allerdings ohne ihrem Mann Bescheid zu geben…\nEine deutsch-schweizerische (Un-)Ruhestandskomödie mit Esther Gemsch und Stefan Kurt – Wohlfühlkino mit großem Herz für seine Figuren.\nVorherige Anmeldung erforderlich.\nEintritt frei\, um eine Spende vor Ort wird gebeten.
URL:https://www.kulturtreffbothfeld.de/events/filmabend-3/
CATEGORIES:Einzelveranstaltungen,Veranstaltungen
END:VEVENT
END:VCALENDAR