BEGIN:VCALENDAR
VERSION:2.0
PRODID:-//Kulturtreff Bothfeld - ECPv6.15.20//NONSGML v1.0//EN
CALSCALE:GREGORIAN
METHOD:PUBLISH
X-WR-CALNAME:Kulturtreff Bothfeld
X-ORIGINAL-URL:https://www.kulturtreffbothfeld.de
X-WR-CALDESC:Veranstaltungen für Kulturtreff Bothfeld
REFRESH-INTERVAL;VALUE=DURATION:PT1H
X-Robots-Tag:noindex
X-PUBLISHED-TTL:PT1H
BEGIN:VTIMEZONE
TZID:Europe/Berlin
BEGIN:DAYLIGHT
TZOFFSETFROM:+0100
TZOFFSETTO:+0200
TZNAME:CEST
DTSTART:20240331T010000
END:DAYLIGHT
BEGIN:STANDARD
TZOFFSETFROM:+0200
TZOFFSETTO:+0100
TZNAME:CET
DTSTART:20241027T010000
END:STANDARD
BEGIN:DAYLIGHT
TZOFFSETFROM:+0100
TZOFFSETTO:+0200
TZNAME:CEST
DTSTART:20250330T010000
END:DAYLIGHT
BEGIN:STANDARD
TZOFFSETFROM:+0200
TZOFFSETTO:+0100
TZNAME:CET
DTSTART:20251026T010000
END:STANDARD
BEGIN:DAYLIGHT
TZOFFSETFROM:+0100
TZOFFSETTO:+0200
TZNAME:CEST
DTSTART:20260329T010000
END:DAYLIGHT
BEGIN:STANDARD
TZOFFSETFROM:+0200
TZOFFSETTO:+0100
TZNAME:CET
DTSTART:20261025T010000
END:STANDARD
END:VTIMEZONE
BEGIN:VEVENT
DTSTART;TZID=Europe/Berlin:20250213T190000
DTEND;TZID=Europe/Berlin:20250213T204500
DTSTAMP:20260422T131044
CREATED:20241231T230009Z
LAST-MODIFIED:20241210T114233Z
UID:11923-1739473200-1739479500@www.kulturtreffbothfeld.de
SUMMARY:Szenische Lesung Cato Bontjes van Beek und Sophie Scholl
DESCRIPTION:“Lerne mit dem Herzen zu denken!” – Zwei kurze Leben im Widerstand\nEine szenische Lesung über die Widerstandskämpferinnen Cato Bontjes van Beek und Sophie Scholl\nIn der szenischen Lesung von Theaterinitiative Bühnensturm kommt die in Fischerhude geborene und zu Unrecht fast vergessene Widerstandskämpferin Cato Bontjes van Beek durch Briefe und andere Originaldokumente zu Wort. Sie war im selben Alter wie die viel bekanntere Sophie Scholl und die beiden jungen Frauen wurden nur kurz nacheinander hingerichtet. Wer waren die beiden wirklich? Die Inszenierung stellt ihre Biografien nebeneinander und beleuchtet\, wie das junge Nachkriegsdeutschland ideologisch zwischen „gutem“ (Weiße Rose) und „fragwürdigem“ – weil angeblich kommunistischem (Rote Kapelle) – Widerstand unterschied. \nLesung ca. 80 Minuten\, anschließend Nachgespräch\nMit Frauke Geyken (Historikerin) und Johanna Kunze (Schauspielerin)\nTeilnahmebeitrag: 8\,- €/ Schüler*innen 4\,- €\nAnmeldung bis 4.2. erforderlich (Restkarten an der Abendkasse\, wenn verfügbar)\nOrt: Kulturbüro Südstadt\, Böhmerstraße 8\nEine gemeinsame Veranstaltung verschiedener Kulturtreffs
URL:https://www.kulturtreffbothfeld.de/events/lerne-mit-dem-herzen-zu-denken/
CATEGORIES:Einzelveranstaltungen,Programm,Veranstaltungen
END:VEVENT
END:VCALENDAR