BEGIN:VCALENDAR
VERSION:2.0
PRODID:-//Kulturtreff Bothfeld - ECPv6.15.20//NONSGML v1.0//EN
CALSCALE:GREGORIAN
METHOD:PUBLISH
X-ORIGINAL-URL:https://www.kulturtreffbothfeld.de
X-WR-CALDESC:Veranstaltungen für Kulturtreff Bothfeld
REFRESH-INTERVAL;VALUE=DURATION:PT1H
X-Robots-Tag:noindex
X-PUBLISHED-TTL:PT1H
BEGIN:VTIMEZONE
TZID:Europe/Berlin
BEGIN:DAYLIGHT
TZOFFSETFROM:+0100
TZOFFSETTO:+0200
TZNAME:CEST
DTSTART:20240331T010000
END:DAYLIGHT
BEGIN:STANDARD
TZOFFSETFROM:+0200
TZOFFSETTO:+0100
TZNAME:CET
DTSTART:20241027T010000
END:STANDARD
BEGIN:DAYLIGHT
TZOFFSETFROM:+0100
TZOFFSETTO:+0200
TZNAME:CEST
DTSTART:20250330T010000
END:DAYLIGHT
BEGIN:STANDARD
TZOFFSETFROM:+0200
TZOFFSETTO:+0100
TZNAME:CET
DTSTART:20251026T010000
END:STANDARD
BEGIN:DAYLIGHT
TZOFFSETFROM:+0100
TZOFFSETTO:+0200
TZNAME:CEST
DTSTART:20260329T010000
END:DAYLIGHT
BEGIN:STANDARD
TZOFFSETFROM:+0200
TZOFFSETTO:+0100
TZNAME:CET
DTSTART:20261025T010000
END:STANDARD
END:VTIMEZONE
BEGIN:VEVENT
DTSTART;TZID=Europe/Berlin:20250215T153000
DTEND;TZID=Europe/Berlin:20250215T174500
DTSTAMP:20260422T133358
CREATED:20241231T230035Z
LAST-MODIFIED:20241212T073520Z
UID:11927-1739633400-1739641500@www.kulturtreffbothfeld.de
SUMMARY:Workshop Lachyoga
DESCRIPTION:„Lachen. Einfach machen.“\nDie Methode Lachyoga gibt es seit fast 30 Jahren; sie hat sich in den letzten Jahrzehnten rasant rund um die Welt verbreitet. In diesen herausfordernden Zeiten ist es besonders wichtig\, auf sich selbst zu achten. Lachen\, Atmen und Entspannen sind wertvolle Übungen für das Körperzellenglück.\nDieser Workshop ist für Einsteiger*innen und Wiederholer*innen gleichermaßen geeignet.\nDie leicht erlernbaren Übungen erfrischen den Geist und beleben den Körper. Probieren sie es aus\, es ist einfacher\, als sie denken!\nBitte eine Decke für die wohltuende Abschlussentspannung mitbringen.\nRenate Lena Hannemann\, Ergotherapeutin und Lachyogatrainerin 20\,- € / erm. 18\,- €
URL:https://www.kulturtreffbothfeld.de/events/workshop-lachyoga-2/
CATEGORIES:Einzelveranstaltungen,Gesundheit,Programm,Veranstaltungen
END:VEVENT
END:VCALENDAR