BEGIN:VCALENDAR
VERSION:2.0
PRODID:-//Kulturtreff Bothfeld - ECPv6.15.20//NONSGML v1.0//EN
CALSCALE:GREGORIAN
METHOD:PUBLISH
X-ORIGINAL-URL:https://www.kulturtreffbothfeld.de
X-WR-CALDESC:Veranstaltungen für Kulturtreff Bothfeld
REFRESH-INTERVAL;VALUE=DURATION:PT1H
X-Robots-Tag:noindex
X-PUBLISHED-TTL:PT1H
BEGIN:VTIMEZONE
TZID:Europe/Berlin
BEGIN:DAYLIGHT
TZOFFSETFROM:+0100
TZOFFSETTO:+0200
TZNAME:CEST
DTSTART:20240331T010000
END:DAYLIGHT
BEGIN:STANDARD
TZOFFSETFROM:+0200
TZOFFSETTO:+0100
TZNAME:CET
DTSTART:20241027T010000
END:STANDARD
BEGIN:DAYLIGHT
TZOFFSETFROM:+0100
TZOFFSETTO:+0200
TZNAME:CEST
DTSTART:20250330T010000
END:DAYLIGHT
BEGIN:STANDARD
TZOFFSETFROM:+0200
TZOFFSETTO:+0100
TZNAME:CET
DTSTART:20251026T010000
END:STANDARD
BEGIN:DAYLIGHT
TZOFFSETFROM:+0100
TZOFFSETTO:+0200
TZNAME:CEST
DTSTART:20260329T010000
END:DAYLIGHT
BEGIN:STANDARD
TZOFFSETFROM:+0200
TZOFFSETTO:+0100
TZNAME:CET
DTSTART:20261025T010000
END:STANDARD
END:VTIMEZONE
BEGIN:VEVENT
DTSTART;TZID=Europe/Berlin:20250611T100000
DTEND;TZID=Europe/Berlin:20250611T110000
DTSTAMP:20260422T071345
CREATED:20250401T091252Z
LAST-MODIFIED:20250402T095546Z
UID:12177-1749636000-1749639600@www.kulturtreffbothfeld.de
SUMMARY:Klingender Spielplatz
DESCRIPTION:Ein Mitmach-Konzert für Kinder von 3 – 6 Jahren – Musik zum Hören\, Staunen und Sehen mit dem Ensemble vom Kammerorchester Hannover/Nordstadt Konzerte e.V. unter der Leitung von Hans-Christian Euler.\n \n \nDer Spielplatz wird zum Ort des Hörens umgestaltet: Wie klingen Seile\, wenn man sie unterschiedlich spannt? Wie klingt eine Rutsche? Wie eine Schaukel? Die Instrumente des Ensembles mit ihren unterschiedlichen Klängen werden vorgestellt und gemeinsam mit den Kindern wird gesungen und musiziert. Ein kleines Konzert bildet den Abschluss.\nOrt: Außengelände der Kita Rohdenhof \nTeilnahmebeitrag: 2\,- € \nVorherige Anmeldung im Kulturtreff erforderlich! \nGruppenanmeldungen sind leider nicht mehr möglich.
URL:https://www.kulturtreffbothfeld.de/events/klingender-spielplatz/
CATEGORIES:Einzelveranstaltungen,Kinder,Programm,Veranstaltungen
END:VEVENT
BEGIN:VEVENT
DTSTART;TZID=Europe/Berlin:20250611T153000
DTEND;TZID=Europe/Berlin:20250611T173000
DTSTAMP:20260422T071345
CREATED:20250410T072142Z
LAST-MODIFIED:20250403T085508Z
UID:12194-1749655800-1749663000@www.kulturtreffbothfeld.de
SUMMARY:Frauen\, die sich trauen
DESCRIPTION:Führung mit Stattreisen Hannover e.V.\nMutig werden und sein: Vor 100 Jahren wurden die deutschen Frauen politisch mündig\, sie durften wählen und konnten gewählt werden. Ada Lessing hatte den Mut\, sie bewarb sich um ein Reichstagsmandat. Wussten Sie\, dass die erste Person im Amt des Regierungspräsidenten in Hannover eine Frau war? Oder\, dass der Besitz einer Bibel einer getauften Jüdin im Konzentrationslager Halt bot? Auf diesem Stadtspaziergang stellen wir Frauen vor\, die sich mutig verschiedenen Widrigkeiten stellten.\nTreffpunkt: Landtag Hannah-Arendt-Platz\, Endpunkt: Platz der Weltausstellung\nTeilnahmebeitrag: 9\,- € / HAP: 4\,50 €\nVorherige Anmeldung und Bezahlung im Kulturtreff erforderlich. \n\n\n\n\n\n 
URL:https://www.kulturtreffbothfeld.de/events/frauen-die-sich-trauen/
CATEGORIES:Einzelveranstaltungen,Programm,Veranstaltungen
END:VEVENT
END:VCALENDAR