BEGIN:VCALENDAR
VERSION:2.0
PRODID:-//Kulturtreff Bothfeld - ECPv6.15.20//NONSGML v1.0//EN
CALSCALE:GREGORIAN
METHOD:PUBLISH
X-WR-CALNAME:Kulturtreff Bothfeld
X-ORIGINAL-URL:https://www.kulturtreffbothfeld.de
X-WR-CALDESC:Veranstaltungen für Kulturtreff Bothfeld
REFRESH-INTERVAL;VALUE=DURATION:PT1H
X-Robots-Tag:noindex
X-PUBLISHED-TTL:PT1H
BEGIN:VTIMEZONE
TZID:Europe/Berlin
BEGIN:DAYLIGHT
TZOFFSETFROM:+0100
TZOFFSETTO:+0200
TZNAME:CEST
DTSTART:20240331T010000
END:DAYLIGHT
BEGIN:STANDARD
TZOFFSETFROM:+0200
TZOFFSETTO:+0100
TZNAME:CET
DTSTART:20241027T010000
END:STANDARD
BEGIN:DAYLIGHT
TZOFFSETFROM:+0100
TZOFFSETTO:+0200
TZNAME:CEST
DTSTART:20250330T010000
END:DAYLIGHT
BEGIN:STANDARD
TZOFFSETFROM:+0200
TZOFFSETTO:+0100
TZNAME:CET
DTSTART:20251026T010000
END:STANDARD
BEGIN:DAYLIGHT
TZOFFSETFROM:+0100
TZOFFSETTO:+0200
TZNAME:CEST
DTSTART:20260329T010000
END:DAYLIGHT
BEGIN:STANDARD
TZOFFSETFROM:+0200
TZOFFSETTO:+0100
TZNAME:CET
DTSTART:20261025T010000
END:STANDARD
END:VTIMEZONE
BEGIN:VEVENT
DTSTART;TZID=Europe/Berlin:20250618T170000
DTEND;TZID=Europe/Berlin:20250618T183000
DTSTAMP:20260422T070822
CREATED:20250410T072409Z
LAST-MODIFIED:20250402T072526Z
UID:12196-1750266000-1750271400@www.kulturtreffbothfeld.de
SUMMARY:Offenes Singen - Open Air
DESCRIPTION:Karin Fischer wird mit Ihnen einen einmaligen und einzigartigen Chor für einen Nachmittag entstehen lassen. Jede Stimme zählt\, ob geübt oder nicht – gemeinsam können Sie einen wunderschönen Klangteppich weben! Die unterschiedlichsten (Sommer-)Lieder werden dafür unter den alten Eichen erklingen.\nLeitung: Karin Fischer (Jazz- Gesangspreisträgerin\, Musikdozentin und Chorleiterin)  \nTeilnahmegebühr: 8\,- € \nVorherige Anmeldung und Bezahlung im Kulturtreff erforderlich!
URL:https://www.kulturtreffbothfeld.de/events/offenes-singen-open-air-4/
CATEGORIES:Einzelveranstaltungen,Programm,Veranstaltungen
END:VEVENT
END:VCALENDAR