BEGIN:VCALENDAR
VERSION:2.0
PRODID:-//Kulturtreff Bothfeld - ECPv6.15.20//NONSGML v1.0//EN
CALSCALE:GREGORIAN
METHOD:PUBLISH
X-ORIGINAL-URL:https://www.kulturtreffbothfeld.de
X-WR-CALDESC:Veranstaltungen für Kulturtreff Bothfeld
REFRESH-INTERVAL;VALUE=DURATION:PT1H
X-Robots-Tag:noindex
X-PUBLISHED-TTL:PT1H
BEGIN:VTIMEZONE
TZID:Europe/Berlin
BEGIN:DAYLIGHT
TZOFFSETFROM:+0100
TZOFFSETTO:+0200
TZNAME:CEST
DTSTART:20240331T010000
END:DAYLIGHT
BEGIN:STANDARD
TZOFFSETFROM:+0200
TZOFFSETTO:+0100
TZNAME:CET
DTSTART:20241027T010000
END:STANDARD
BEGIN:DAYLIGHT
TZOFFSETFROM:+0100
TZOFFSETTO:+0200
TZNAME:CEST
DTSTART:20250330T010000
END:DAYLIGHT
BEGIN:STANDARD
TZOFFSETFROM:+0200
TZOFFSETTO:+0100
TZNAME:CET
DTSTART:20251026T010000
END:STANDARD
BEGIN:DAYLIGHT
TZOFFSETFROM:+0100
TZOFFSETTO:+0200
TZNAME:CEST
DTSTART:20260329T010000
END:DAYLIGHT
BEGIN:STANDARD
TZOFFSETFROM:+0200
TZOFFSETTO:+0100
TZNAME:CET
DTSTART:20261025T010000
END:STANDARD
END:VTIMEZONE
BEGIN:VEVENT
DTSTART;TZID=Europe/Berlin:20250916T100000
DTEND;TZID=Europe/Berlin:20250916T113000
DTSTAMP:20260422T031552
CREATED:20250803T223923Z
LAST-MODIFIED:20250707T094141Z
UID:12370-1758016800-1758022200@www.kulturtreffbothfeld.de
SUMMARY:Denk-Pfad
DESCRIPTION:ungewöhnliche Stadtführung: Denk-Pfad \nEntdecken Sie die Stadt Hannover und trainieren gleichzeitig spielerisch Ihr Gedächtnis! Was hat der Schrägaufzug in der Rathauskuppel mit Ihrer Merkfähigkeit zu tun? Die Stadt wird Kulisse für spannende Merktechniken.  \nTreffpunkt: Neues Rathaus \nKatja Kuhnt  \nTeilnahmebeitrag: 10 €  \nVorherige Anmeldung und Bezahlung im Kulturtreff erforderlich
URL:https://www.kulturtreffbothfeld.de/events/denk-pfad/
CATEGORIES:Einzelveranstaltungen,Programm,Veranstaltungen
END:VEVENT
END:VCALENDAR