BEGIN:VCALENDAR
VERSION:2.0
PRODID:-//Kulturtreff Bothfeld - ECPv6.15.20//NONSGML v1.0//EN
CALSCALE:GREGORIAN
METHOD:PUBLISH
X-ORIGINAL-URL:https://www.kulturtreffbothfeld.de
X-WR-CALDESC:Veranstaltungen für Kulturtreff Bothfeld
REFRESH-INTERVAL;VALUE=DURATION:PT1H
X-Robots-Tag:noindex
X-PUBLISHED-TTL:PT1H
BEGIN:VTIMEZONE
TZID:Europe/Berlin
BEGIN:DAYLIGHT
TZOFFSETFROM:+0100
TZOFFSETTO:+0200
TZNAME:CEST
DTSTART:20240331T010000
END:DAYLIGHT
BEGIN:STANDARD
TZOFFSETFROM:+0200
TZOFFSETTO:+0100
TZNAME:CET
DTSTART:20241027T010000
END:STANDARD
BEGIN:DAYLIGHT
TZOFFSETFROM:+0100
TZOFFSETTO:+0200
TZNAME:CEST
DTSTART:20250330T010000
END:DAYLIGHT
BEGIN:STANDARD
TZOFFSETFROM:+0200
TZOFFSETTO:+0100
TZNAME:CET
DTSTART:20251026T010000
END:STANDARD
BEGIN:DAYLIGHT
TZOFFSETFROM:+0100
TZOFFSETTO:+0200
TZNAME:CEST
DTSTART:20260329T010000
END:DAYLIGHT
BEGIN:STANDARD
TZOFFSETFROM:+0200
TZOFFSETTO:+0100
TZNAME:CET
DTSTART:20261025T010000
END:STANDARD
END:VTIMEZONE
BEGIN:VEVENT
DTSTART;TZID=Europe/Berlin:20250925T123000
DTEND;TZID=Europe/Berlin:20250925T130000
DTSTAMP:20260422T020600
CREATED:20250708T085143Z
LAST-MODIFIED:20250708T085143Z
UID:12437-1758803400-1758805200@www.kulturtreffbothfeld.de
SUMMARY:MittagsMusik: Tuba-Zauber
DESCRIPTION:„MittagsMusik“ – kleine Konzerte zur Mittagszeit\nIn unserer Reihe „MittagsMusik“ bieten wir Ihnen auf unserer grünen\, lauschigen Innenhof-Terrasse wieder feine Konzerthäppchen „für zwischendurch“.\nDie Konzerte finden draußen statt – bei sehr schlechtem Wetter ausnahmsweise auch drin!\nDer Eintritt ist frei\, um eine angemessene Spende wird gebeten.\nUm vorherige Anmeldung wird gebeten. \nDonnerstag\, 25.09.: Tuba-Zauber\nMächtig und wuchtig oder fein und virtuos? Raimund Lippok und Kiran Mohr unterhalten mit dem größten aller Blechblasinstrumente und zeigen die Vielseitigkeit des Instruments. Mit Duetten wandern sie durch Stile und Genres und gehen dabei auf das Instrument – Klischee und Wirklichkeit – ein. \n  \n 
URL:https://www.kulturtreffbothfeld.de/events/mittagsmusik-tuba-zauber/
CATEGORIES:Einzelveranstaltungen,MittagsMusik,Programm,Veranstaltungen
END:VEVENT
END:VCALENDAR